BEGIN:VCALENDAR
VERSION:2.0
PRODID:-//Rotary District 5030 - ECPv6.15.20//NONSGML v1.0//EN
CALSCALE:GREGORIAN
METHOD:PUBLISH
X-ORIGINAL-URL:https://district5030.org
X-WR-CALDESC:Events for Rotary District 5030
REFRESH-INTERVAL;VALUE=DURATION:PT1H
X-Robots-Tag:noindex
X-PUBLISHED-TTL:PT1H
BEGIN:VTIMEZONE
TZID:America/Los_Angeles
BEGIN:DAYLIGHT
TZOFFSETFROM:-0800
TZOFFSETTO:-0700
TZNAME:PDT
DTSTART:20220313T100000
END:DAYLIGHT
BEGIN:STANDARD
TZOFFSETFROM:-0700
TZOFFSETTO:-0800
TZNAME:PST
DTSTART:20221106T090000
END:STANDARD
BEGIN:DAYLIGHT
TZOFFSETFROM:-0800
TZOFFSETTO:-0700
TZNAME:PDT
DTSTART:20230312T100000
END:DAYLIGHT
BEGIN:STANDARD
TZOFFSETFROM:-0700
TZOFFSETTO:-0800
TZNAME:PST
DTSTART:20231105T090000
END:STANDARD
BEGIN:DAYLIGHT
TZOFFSETFROM:-0800
TZOFFSETTO:-0700
TZNAME:PDT
DTSTART:20240310T100000
END:DAYLIGHT
BEGIN:STANDARD
TZOFFSETFROM:-0700
TZOFFSETTO:-0800
TZNAME:PST
DTSTART:20241103T090000
END:STANDARD
END:VTIMEZONE
BEGIN:VEVENT
DTSTART;TZID=America/Los_Angeles:20231030T120000
DTEND;TZID=America/Los_Angeles:20231030T130000
DTSTAMP:20260425T172701
CREATED:20231028T185033Z
LAST-MODIFIED:20231028T185033Z
UID:10000050-1698667200-1698670800@district5030.org
SUMMARY:ONE on ONE MEGA MEETING With RI. President Elect. STEPHANIE A. URCHICK
DESCRIPTION:This meeting will give you and other Rotarians the opportunity to meet One on One with the RI-President Elect. This meeting will give Rotarians\, Districts and Clubs the opportunity to Re-connect\, Network\, Engage\, Connect\, Build Goodwill and Friendship around the world. \nIn this Mega Meeting you will join other Rotarians from around the world in giving a Presidential Toast to the RI-Presidential Elect STEPHANIE A. URCHICK in congratulating her as the next Rotary International President one of the world’s biggest Humanitarian Service organizations in the world. \nIn this meeting also RI. President Elect. Stephanie A. Urchick will toast to YOU for your amazing sacrifices\, work\, dedication and selfless services to humanity. \nPLEASE NOTE. \nIf you want your Club or District to be a Co-Host for this Mega Meeting\, please send us a mail requesting to be a Co-Host with the details below. \nName of Rotarian \nName of District or Club \nDistrict Number & Country \nExpected numbers of members attending the meeting. \nTOPIC. \n*The Internationality of Rotary. \nPartnerships\, Economic & Community Development. \nDate: 30th – Oct. 2023 \nZOOM MEETING \nZoom ID: 850 0236 0420 \nPasscode: SAU-2425 \n  \n– CLICK TO JOIN. \nhttps://rotary.tiny.us/TalkWithStephanie \n  \nPlease kindly Click and Register with the link below your questions on the Google Form that you will like to ask the RI. President Elect during the meeting if you have any as it relates to Rotary. \nhttps://docs.google.com/forms/d/1vuB2mz-eWn6xoAhttAWO6hwlHhPhKaoPaLMj1zXorHE/edit?ts=652abfd4 \nMEGA MEETING TIME CONVERTED FOR COUNTRIES \n8.30 PM India \n3.00 PM GMT \n19.00 PM Dubai \n6:00 PM Turkey \n23.30 PM Manila \n12.00 PM Brasilia \n11: 00 AM Venezuela \n6.00 PM EST & Kenya \n4.00 PM BST & Nigeria \n10.00 AM Evanston USA \n11.00 AM EDT & Toronto \nKindly note the login will start 15 minutes prior as we need to start the meeting on time.  \nFor easy identification\, please log-in with your name and country E.g. Mark UK.
URL:https://district5030.org/event/one-on-one-mega-meeting-with-ri-president-elect-stephanie-a-urchick/
LOCATION:WA
CATEGORIES:Rotary International
ATTACH;FMTTYPE=image/jpeg:https://district5030.org/wp-content/uploads/2023/10/capture-1.jpg
END:VEVENT
END:VCALENDAR