BEGIN:VCALENDAR
VERSION:2.0
PRODID:-//Rotary District 5030 - ECPv6.15.20//NONSGML v1.0//EN
CALSCALE:GREGORIAN
METHOD:PUBLISH
X-ORIGINAL-URL:https://district5030.org
X-WR-CALDESC:Events for Rotary District 5030
REFRESH-INTERVAL;VALUE=DURATION:PT1H
X-Robots-Tag:noindex
X-PUBLISHED-TTL:PT1H
BEGIN:VTIMEZONE
TZID:America/Los_Angeles
BEGIN:DAYLIGHT
TZOFFSETFROM:-0800
TZOFFSETTO:-0700
TZNAME:PDT
DTSTART:20230312T100000
END:DAYLIGHT
BEGIN:STANDARD
TZOFFSETFROM:-0700
TZOFFSETTO:-0800
TZNAME:PST
DTSTART:20231105T090000
END:STANDARD
BEGIN:DAYLIGHT
TZOFFSETFROM:-0800
TZOFFSETTO:-0700
TZNAME:PDT
DTSTART:20240310T100000
END:DAYLIGHT
BEGIN:STANDARD
TZOFFSETFROM:-0700
TZOFFSETTO:-0800
TZNAME:PST
DTSTART:20241103T090000
END:STANDARD
BEGIN:DAYLIGHT
TZOFFSETFROM:-0800
TZOFFSETTO:-0700
TZNAME:PDT
DTSTART:20250309T100000
END:DAYLIGHT
BEGIN:STANDARD
TZOFFSETFROM:-0700
TZOFFSETTO:-0800
TZNAME:PST
DTSTART:20251102T090000
END:STANDARD
END:VTIMEZONE
BEGIN:VEVENT
DTSTART;VALUE=DATE:20240524
DTEND;VALUE=DATE:20240530
DTSTAMP:20260425T082808
CREATED:20230915T211256Z
LAST-MODIFIED:20231127T193504Z
UID:10000040-1716508800-1717027199@district5030.org
SUMMARY:2024 Rotary International Convention - Singapore
DESCRIPTION:The Rotary International Convention: Unforgettable moments\, enduring relationships. The Rotary International Convention is where you’ll find people of action from around the world brainstorming solutions to some of the most pressing challenges and celebrating our works of service that create lasting change. The convention is where you’ll renew connections\, discover fresh perspectives\, and create unforgettable moments and enduring relationships. \n \nPlease Read more …… \n\n\n\n\nAt the convention\, you’ll: \n\nParticipate in engaging breakout session discussions\nAttend motivating general sessions\nNetwork with fellow changemakers\nMingle with old and new friends\nBrowse exhibits and visit the House of Friendship\nExplore an exciting host city\nEnjoy live entertainment and enriching attractions\n\nThe convention is our largest event of the year\, a chance for members to show the general public who we are and what we do. Join us at this year’s Rotary International Convention and show the world who you are and all that you do. \nHere is a link to the 2024 Singapore Convention: https://convention.rotary.org/en-us \nGo to MyRotary and Register TODAY: https://my.rotary.org/en/secure/application/231?deep-link=http%3A//events.rotaryintl.org/%3FEventId%3D2f1e207c-0139-4ace-b6ca-1aca1e1986fc \nAll RI events take place at the Marina Bay Sands Expo & Convention Centre or National Stadium unless otherwise indicated. This information is subject to change\, so check back often for the latest updates. Purchase tickets to Rotary-ticketed events when you register for the convention online\, by mail\, or fax. \nVisit the Host Organization Committee website to purchase tickets to their exciting events\, tours\, and activities. More information is coming soon.
URL:https://district5030.org/event/2024-rotary-international-convention-singapore/
LOCATION:WA
CATEGORIES:Rotary International
ATTACH;FMTTYPE=image/jpeg:https://district5030.org/wp-content/uploads/2023/09/Singapore-Convention.jpg
END:VEVENT
END:VCALENDAR