BEGIN:VCALENDAR
VERSION:2.0
PRODID:-//Rotary District 5030 - ECPv6.15.20//NONSGML v1.0//EN
CALSCALE:GREGORIAN
METHOD:PUBLISH
X-ORIGINAL-URL:https://district5030.org
X-WR-CALDESC:Events for Rotary District 5030
REFRESH-INTERVAL;VALUE=DURATION:PT1H
X-Robots-Tag:noindex
X-PUBLISHED-TTL:PT1H
BEGIN:VTIMEZONE
TZID:America/Los_Angeles
BEGIN:DAYLIGHT
TZOFFSETFROM:-0800
TZOFFSETTO:-0700
TZNAME:PDT
DTSTART:20230312T100000
END:DAYLIGHT
BEGIN:STANDARD
TZOFFSETFROM:-0700
TZOFFSETTO:-0800
TZNAME:PST
DTSTART:20231105T090000
END:STANDARD
BEGIN:DAYLIGHT
TZOFFSETFROM:-0800
TZOFFSETTO:-0700
TZNAME:PDT
DTSTART:20240310T100000
END:DAYLIGHT
BEGIN:STANDARD
TZOFFSETFROM:-0700
TZOFFSETTO:-0800
TZNAME:PST
DTSTART:20241103T090000
END:STANDARD
BEGIN:DAYLIGHT
TZOFFSETFROM:-0800
TZOFFSETTO:-0700
TZNAME:PDT
DTSTART:20250309T100000
END:DAYLIGHT
BEGIN:STANDARD
TZOFFSETFROM:-0700
TZOFFSETTO:-0800
TZNAME:PST
DTSTART:20251102T090000
END:STANDARD
END:VTIMEZONE
BEGIN:VEVENT
DTSTART;TZID=America/Los_Angeles:20240624T173000
DTEND;TZID=America/Los_Angeles:20240624T203000
DTSTAMP:20260425T094914
CREATED:20240302T202048Z
LAST-MODIFIED:20240403T204303Z
UID:10000096-1719250200-1719261000@district5030.org
SUMMARY:District 5030 Celebration Event – Hyatt Regency\, Bellevue and Featuring Former Seahawk\, Doug Baldwin\, Jr.
DESCRIPTION:We are going to have the end of year celebration for the district at the Hyatt Regency in Bellevue.  This will be a big gathering this year as many clubs have expressed an interest in attending.  It will also be hand over of the DG Club Home banner to DGE Rachele’s home club – Bellevue. \nWe are also thrilled to announce that Doug Baldwin\, Jr. formerly of the Seahawks and a leader in his local community\, will be our keynote speaker this year! \nWe will be organizing program that will recognize our achievements with the publication of the district 5030 Impact Report.  We will also recognize our club achievements in support of the 3-year strategic imperatives for 5030\, our Rotarian of the Year\, our newly minted Paul Harris Fellows\, and our second cohort of graduates from the RISE Leadership program.  We will have other fun activities to add\, which we will detail in the next 4-6 weeks. \nFor the EOY Celebration\, we are keeping it simple this year by having the clubs write a check to RI District 5030 2024 District Conference and to include a note on check that states EOY Celebration to help with the tracking on the accounting side.  Our price is $1\,100 per table ($110 per person) and it will cover the sit down dinner and the program we are laying on.  We will let the club determine how they want to secure membership support for the event. \nDo not delay and book your table before we run out of space.  Only two tables per club!  Submit your request via this form and we will follow up with the details for payment. \n\n← Back Thank you for your response. ✨\n\n\n					\n						\n							\n							\n						\n						\n						\n						\n						\n							\n								\n									\n										\n										\n									\n									\n										\n										\n									\n								\n							\n						\n						\n							\n								\n									\n									\n										\n									\n									\n									\n								\n							\n						\n					\n				\n\n\n\nName(required)\n\n \n			\n				\n					\n						\n						\n						\n					\n				\n				\n			 \n	\n\n\nEmail(required)\n\n \n			\n				\n					\n						\n						\n						\n					\n				\n				\n			 \n	\n\n\nMessage\n\n \n			\n				\n					\n						\n						\n						\n					\n				\n				\n			\n	\n	\n\n				\n					\n				\n						Submit		\n		\n		\n	 \nΔ
URL:https://district5030.org/event/distict-5030-celebration-event-hyatt-regency-bellevue/
LOCATION:Hyatt Regency Hotel in Bellevue\, 900 Bellevue Way NE\, Bellevue\, WA\, 98004\, United States
CATEGORIES:District,Rotary International
ATTACH;FMTTYPE=image/png:https://district5030.org/wp-content/uploads/2024/03/Screenshot-2024-04-03-at-1.31.50 PM.png
END:VEVENT
END:VCALENDAR