BEGIN:VCALENDAR
VERSION:2.0
PRODID:-//Rotary District 5030 - ECPv6.15.20//NONSGML v1.0//EN
CALSCALE:GREGORIAN
METHOD:PUBLISH
X-WR-CALNAME:Rotary District 5030
X-ORIGINAL-URL:https://district5030.org
X-WR-CALDESC:Events for Rotary District 5030
REFRESH-INTERVAL;VALUE=DURATION:PT1H
X-Robots-Tag:noindex
X-PUBLISHED-TTL:PT1H
BEGIN:VTIMEZONE
TZID:America/Los_Angeles
BEGIN:DAYLIGHT
TZOFFSETFROM:-0800
TZOFFSETTO:-0700
TZNAME:PDT
DTSTART:20220313T100000
END:DAYLIGHT
BEGIN:STANDARD
TZOFFSETFROM:-0700
TZOFFSETTO:-0800
TZNAME:PST
DTSTART:20221106T090000
END:STANDARD
BEGIN:DAYLIGHT
TZOFFSETFROM:-0800
TZOFFSETTO:-0700
TZNAME:PDT
DTSTART:20230312T100000
END:DAYLIGHT
BEGIN:STANDARD
TZOFFSETFROM:-0700
TZOFFSETTO:-0800
TZNAME:PST
DTSTART:20231105T090000
END:STANDARD
BEGIN:DAYLIGHT
TZOFFSETFROM:-0800
TZOFFSETTO:-0700
TZNAME:PDT
DTSTART:20240310T100000
END:DAYLIGHT
BEGIN:STANDARD
TZOFFSETFROM:-0700
TZOFFSETTO:-0800
TZNAME:PST
DTSTART:20241103T090000
END:STANDARD
END:VTIMEZONE
BEGIN:VEVENT
DTSTART;TZID=America/Los_Angeles:20230920T110000
DTEND;TZID=America/Los_Angeles:20230920T120000
DTSTAMP:20260425T194116
CREATED:20230915T213320Z
LAST-MODIFIED:20230915T213339Z
UID:10000042-1695207600-1695211200@district5030.org
SUMMARY:Be Brave Like Ukraine - Live!
DESCRIPTION:LIVE FROM UKRAINE \nMeet the people that are saving children’s lives in the middle of the invasion. Rotary clubs are currently working together to provide funding to mark mined areas with signs. Join us and find out how you can help. \nDuring the webinar\, you will hear from Rotarians who are visiting the children in the hospitals\, the experts in charge of the program\, the soldiers who are risking their lives to put up the signs and the mothers and children they are protecting. \nClubs and Districts in the BIG WEST have worked together tirelessly for the last 18 months on disaster grants and global grants for Ukraine totaling over $2.5M. The needs are still big but this time the price of doing good is small. For $3 USD\, a sign will be placed preventing a child\nfrom entering a minefield and losing a limb or their life. To date\, 250 children have been maimed. \nA Rotarian supporting this effort has said\, “I would rather pay three dollars for a sign today than pay for a prosthetic leg for a child tomorrow.”\nPlease join us for this engaging webinar. \nExperience live what it is like to live in a war zone from the people who are there. \nJOIN US – SEPT 20th at 11:00am PDT \nRegister at: https://us02web.zoom.us/j/89526238047 \nInfo flyer: https://rotarydistrict5110.com/signs-for-landmines/
URL:https://district5030.org/event/be-brave-like-ukraine-live/
CATEGORIES:District
ATTACH;FMTTYPE=image/png:https://district5030.org/wp-content/uploads/2023/09/Capture.png
END:VEVENT
BEGIN:VEVENT
DTSTART;VALUE=DATE:20230915
DTEND;VALUE=DATE:20230917
DTSTAMP:20260425T194116
CREATED:20230912T203003Z
LAST-MODIFIED:20230912T203003Z
UID:10000038-1694736000-1694908799@district5030.org
SUMMARY:Rotary Club of Edmonds Oktoberfest 2023
DESCRIPTION:Edmonds are looking for volunteers – please sign up for opportunities via this link: https://www.signupgenius.com/go/8050A4CA9AA2EA5FD0-rotary#/
URL:https://district5030.org/event/rotary-club-of-edmonds-oktoberfest-2023/
CATEGORIES:Club
ATTACH;FMTTYPE=image/jpeg:https://district5030.org/wp-content/uploads/2023/09/Screenshot-2023-09-12-at-1.22.57-PM-e1694550580455.jpg
END:VEVENT
BEGIN:VEVENT
DTSTART;TZID=America/Los_Angeles:20230911T180000
DTEND;TZID=America/Los_Angeles:20230911T190000
DTSTAMP:20260425T194116
CREATED:20230907T015806Z
LAST-MODIFIED:20230912T204032Z
UID:10000016-1694455200-1694458800@district5030.org
SUMMARY:DG Monthly meeting with District AGs
DESCRIPTION:DG monthly meeting with AGs to update on district activities\, progress on strategic imperatives\, and hear about club activities.
URL:https://district5030.org/event/dg-monthly-meeting-with-district-ags/
CATEGORIES:District
ATTACH;FMTTYPE=image/png:https://district5030.org/wp-content/uploads/2023/09/Screenshot-2023-09-12-at-1.35.34-PM.png
END:VEVENT
BEGIN:VEVENT
DTSTART;TZID=America/Los_Angeles:20230911T180000
DTEND;TZID=America/Los_Angeles:20230911T190000
DTSTAMP:20260425T194116
CREATED:20230907T015513Z
LAST-MODIFIED:20230912T203931Z
UID:10000026-1694455200-1694458800@district5030.org
SUMMARY:DG Monthly Meeting with Club Presidents
DESCRIPTION:DG meeting to update club presidents on the activities across the district and progress with the 3-year strategic imperatives.
URL:https://district5030.org/event/dg-monthly-meeting-with-club-presidents/2023-09-11/
CATEGORIES:District
ATTACH;FMTTYPE=image/png:https://district5030.org/wp-content/uploads/2023/09/Screenshot-2023-09-12-at-1.35.34-PM.png
END:VEVENT
BEGIN:VEVENT
DTSTART;TZID=America/Los_Angeles:20230715T080000
DTEND;TZID=America/Los_Angeles:20231009T210000
DTSTAMP:20260425T194116
CREATED:20230725T060542Z
LAST-MODIFIED:20230912T204051Z
UID:10000004-1689408000-1696885200@district5030.org
SUMMARY:Hunger Strike 2023
DESCRIPTION:Hunger Strike™ is a fun and friendly team-based fundraising competition that culminates in a one-day in-person bowling event where club and community members come together to celebrate their efforts and for some\, receive sweet prizes. Hunger Strike benefits Harvest Against Hunger\, an organization that works with farmers\, truckers\, volunteers and others to bring valuable skills and resources into hunger relief efforts in communities across Washington state and beyond. This event is a powerful way for Rotary clubs to engage with their local communities and demonstrate the impact of Rotary. \n\n\n\n\n\n\n\nRaise money for your club\, Harvest Against Hunger and the hunger-relief program of your choice\nEngage and interact with other clubs across the District\nPromote your club and Rotary’s achievements through strong local community engagement\n\nFIND YOUR CLUB AND FORM YOUR TEAMS!
URL:https://district5030.org/event/hunger-strike-2023/
CATEGORIES:District
ATTACH;FMTTYPE=image/webp:https://district5030.org/wp-content/uploads/2023/07/HungerStrikeLogo_Generic2.webp
ORGANIZER;CN="Rotary District 5030 & Harvest Against Hunger":MAILTO:publicimage@district5030.org
END:VEVENT
BEGIN:VEVENT
DTSTART;TZID=America/Los_Angeles:20230704T040000
DTEND;TZID=America/Los_Angeles:20230704T050000
DTSTAMP:20260425T194116
CREATED:20230701T141456Z
LAST-MODIFIED:20230701T141541Z
UID:10000003-1688443200-1688446800@district5030.org
SUMMARY:4th of July Parade (Edmonds)
DESCRIPTION:Meet in downtown Edmonds–time to be determined
URL:https://district5030.org/event/4th-of-july-parade-edmonds/
CATEGORIES:Club
END:VEVENT
BEGIN:VEVENT
DTSTART;TZID=America/Los_Angeles:20230704T010000
DTEND;TZID=America/Los_Angeles:20230704T040000
DTSTAMP:20260425T194116
CREATED:20230701T135515Z
LAST-MODIFIED:20230701T141618Z
UID:10000002-1688432400-1688443200@district5030.org
SUMMARY:4th of July Parade (Issaquah)
DESCRIPTION:We’ll be meeting at 8 am to handle registration and organization of the Down Home 4th of July Parade in downtown Issaquah.
URL:https://district5030.org/event/4th-of-july-parade/
LOCATION:425 Rainier Blvd N ssaquah\, WA 98027\, 425 Rainier Blvd N\, Issaquah\, WA\, 98027\, United States
CATEGORIES:Club
END:VEVENT
END:VCALENDAR