BEGIN:VCALENDAR
VERSION:2.0
PRODID:-//Rotary District 5030 - ECPv6.15.20//NONSGML v1.0//EN
CALSCALE:GREGORIAN
METHOD:PUBLISH
X-WR-CALNAME:Rotary District 5030
X-ORIGINAL-URL:https://district5030.org
X-WR-CALDESC:Events for Rotary District 5030
REFRESH-INTERVAL;VALUE=DURATION:PT1H
X-Robots-Tag:noindex
X-PUBLISHED-TTL:PT1H
BEGIN:VTIMEZONE
TZID:America/Los_Angeles
BEGIN:DAYLIGHT
TZOFFSETFROM:-0800
TZOFFSETTO:-0700
TZNAME:PDT
DTSTART:20240310T100000
END:DAYLIGHT
BEGIN:STANDARD
TZOFFSETFROM:-0700
TZOFFSETTO:-0800
TZNAME:PST
DTSTART:20241103T090000
END:STANDARD
BEGIN:DAYLIGHT
TZOFFSETFROM:-0800
TZOFFSETTO:-0700
TZNAME:PDT
DTSTART:20250309T100000
END:DAYLIGHT
BEGIN:STANDARD
TZOFFSETFROM:-0700
TZOFFSETTO:-0800
TZNAME:PST
DTSTART:20251102T090000
END:STANDARD
BEGIN:DAYLIGHT
TZOFFSETFROM:-0800
TZOFFSETTO:-0700
TZNAME:PDT
DTSTART:20260308T100000
END:DAYLIGHT
BEGIN:STANDARD
TZOFFSETFROM:-0700
TZOFFSETTO:-0800
TZNAME:PST
DTSTART:20261101T090000
END:STANDARD
BEGIN:DAYLIGHT
TZOFFSETFROM:-0800
TZOFFSETTO:-0700
TZNAME:PDT
DTSTART:20270314T100000
END:DAYLIGHT
BEGIN:STANDARD
TZOFFSETFROM:-0700
TZOFFSETTO:-0800
TZNAME:PST
DTSTART:20271107T090000
END:STANDARD
END:VTIMEZONE
BEGIN:VEVENT
DTSTART;TZID=America/Los_Angeles:20251018T173000
DTEND;TZID=America/Los_Angeles:20251018T210000
DTSTAMP:20260424T203715
CREATED:20250826T172816Z
LAST-MODIFIED:20250826T172816Z
UID:10000226-1760808600-1760821200@district5030.org
SUMMARY:Rotary Club of Renton CAPER Dinner & Auction
DESCRIPTION:Dinner and Auction to support the endeavors of the Rotary Club of Renton.
URL:https://district5030.org/event/rotary-club-of-renton-caper-dinner-auction/
LOCATION:See description
ATTACH;FMTTYPE=image/jpeg:https://district5030.org/wp-content/uploads/2025/08/CAPER-2025-Web-Banner-copy-73c6c61c2a7d61e540cbfbf9d8d6403f.jpg
END:VEVENT
BEGIN:VEVENT
DTSTART;TZID=America/Los_Angeles:20251021T170000
DTEND;TZID=America/Los_Angeles:20251021T190000
DTSTAMP:20260424T203715
CREATED:20251004T190234Z
LAST-MODIFIED:20251005T180242Z
UID:10000245-1761066000-1761073200@district5030.org
SUMMARY:MAKEPOLIOHISTORY
DESCRIPTION: World Polio Day (October 24) offers an opportunity to highlight global efforts toward a polio-free world and honor the tireless contributions of those on the front lines in the fight to eradicate polio from every corner of the globe.\n\nThe Global Polio Eradication Initiative is a public-private partnership led by national\ngovernments with six partners – the World Health Organization (WHO)\, Rotary International\,\nthe US Centers for Disease Control and Prevention (CDC)\, the United Nations Children’s\nFund (UNICEF)\, Gates Foundation\, and Gavi\, the Vaccine Alliance. Its goal is to eradicate polio\nworldwide. Together\, we can #Makepoliohistory.\n\n#MAKEPOLIOHISTORY Please join us:\nWhen:\nWorld Polio Day Event:\n October 21\, 2025\nWhere:\nGates Foundation\nDiscovery Center\n440 5th Avenue\nSeattle\, WA 98109In-Person:\n5:00-7:00 pm \n\n\nEzra Teshome\nPolio Plus Chair\nDistrict 5030
URL:https://district5030.org/event/makepoliohistory/
LOCATION:Gates Foundation Discovery Center 440 5th Avenue Seattle\, WA 98109
ATTACH;FMTTYPE=image/png:https://district5030.org/wp-content/uploads/2025/10/Screenshot-2025-10-04-at-12.01.50-PM.png
END:VEVENT
BEGIN:VEVENT
DTSTART;TZID=America/Los_Angeles:20251022T170000
DTEND;TZID=America/Los_Angeles:20251022T210000
DTSTAMP:20260424T203715
CREATED:20251004T185656Z
LAST-MODIFIED:20251004T185656Z
UID:10000243-1761152400-1761166800@district5030.org
SUMMARY:LAKE FOREST GRILL 'END POLIO NIGHT'
DESCRIPTION:LFP Rotary and Lake Forest Grill are teaming up to host a ‘NO MORE POLIO’ Night\nWednesday October 22nd\, 5-9p\n20% of ALL proceeds will go to the eradication of Polio\nCOME DINE WITH US…BUY A GIFT CARD…DO TAKE OUT.
URL:https://district5030.org/event/lake-forest-grill-end-polio-night/
LOCATION:See description
ATTACH;FMTTYPE=image/jpeg:https://district5030.org/wp-content/uploads/2025/09/IMG_3767-da2a716053ce652a13afbf9ae3493889.jpeg
END:VEVENT
BEGIN:VEVENT
DTSTART;TZID=America/Los_Angeles:20251024T183000
DTEND;TZID=America/Los_Angeles:20251024T183000
DTSTAMP:20260424T203715
CREATED:20251013T220940Z
LAST-MODIFIED:20251013T221033Z
UID:10000246-1761330600-1761330600@district5030.org
SUMMARY:WINGO Fundraiser!
DESCRIPTION:WINGO Fundraiser! BINGO + BEER + COCKTAILS + WINE + WHISKEY \nFriday\, Oct 24 \nDoors Open at 6:30pm First Game Begins at 7:00pm \nBingo\, Live Auction\, \nElvis & Lots of Fun! \nTickets will get you: \nThree Bingo Cards A Drink \nWitches\, Ghosts & Goblins\, \nGourmet Hot Dogs & More \n— EVENT IS 21 & OVER — \n→ $50 ← Halloween Themed! \nPrizes for best costumes \n– COSTUMES O P T IONA L –
URL:https://district5030.org/event/wingo-fundraiser/
LOCATION:Old Opera House For Tickets\, Visit: 515 Dayton St – Edmonds
CATEGORIES:Club
ATTACH;FMTTYPE=image/jpeg:https://district5030.org/wp-content/uploads/2025/10/wingo.jpg
END:VEVENT
BEGIN:VEVENT
DTSTART;TZID=America/Los_Angeles:20251024T190000
DTEND;TZID=America/Los_Angeles:20251024T220000
DTSTAMP:20260424T203715
CREATED:20251004T185614Z
LAST-MODIFIED:20251004T185614Z
UID:10000242-1761332400-1761343200@district5030.org
SUMMARY:Fall Drag Queen Bingo
DESCRIPTION:Come join us for a fabulous night of Drag Bingo hosted by the Rotary club of Des Moines & Normandy Park! Proceeds will support the Highline School’s Foundation and Waterland Pride. Get ready for a fun-filled evening of laughter\, prizes\, and entertainment. The event will be held at the The Cove in Normandy Park. Don’t miss out on this exciting opportunity to support a great cause and have a blast with friends. See you there!
URL:https://district5030.org/event/fall-drag-queen-bingo/
LOCATION:See description
ATTACH;FMTTYPE=image/jpeg:https://district5030.org/wp-content/uploads/2025/09/Bingo.png-8597e00d636725f593591f079922a6fa.jpeg
END:VEVENT
BEGIN:VEVENT
DTSTART;TZID=America/Los_Angeles:20251108T090000
DTEND;TZID=America/Los_Angeles:20251108T120000
DTSTAMP:20260424T203715
CREATED:20250912T172931Z
LAST-MODIFIED:20250912T173018Z
UID:10000241-1762592400-1762603200@district5030.org
SUMMARY:Tree Planting
DESCRIPTION:The Rotary Club of Enumclaw and the District 5030 Environmental/Sustainability Committee are hosting a morning of education and tree planting. All Rotarians and their families are invited to participate in this spirited community event. Plan to wear weather appropriate clothing\, including some Rotary logo gear. More details to follow.
URL:https://district5030.org/event/tree-planting/
LOCATION:See description
CATEGORIES:Club
ATTACH;FMTTYPE=image/png:https://district5030.org/wp-content/uploads/2025/09/image-879b27a5eba10c596c8214a66e4fa9b7.png
END:VEVENT
BEGIN:VEVENT
DTSTART;TZID=America/Los_Angeles:20251108T170000
DTEND;TZID=America/Los_Angeles:20251108T213000
DTSTAMP:20260424T203715
CREATED:20250908T170014Z
LAST-MODIFIED:20250908T170014Z
UID:10000238-1762621200-1762637400@district5030.org
SUMMARY:"The Oscars" - Rotary Club of Maple Valley - Auction & Gala
DESCRIPTION:A night to remember! Rotary Club of Maple Valley’s\, Auction & Gala – “The Oscars”!  A perfect evening to dress to the nines\, mingle with like minded people\, cheer on those who win an Oscar and support many great causes all while overlooking the beautiful golf course at Meridian Valley.
URL:https://district5030.org/event/the-oscars-rotary-club-of-maple-valley-auction-gala/
LOCATION:See description
ATTACH;FMTTYPE=image/jpeg:https://district5030.org/wp-content/uploads/2025/09/The-Oscars-2025-Rotary-Club-of-Maple-Valley-Gala-Auction-36b30aa9641b1a9d402e843543abb989.jpeg
END:VEVENT
BEGIN:VEVENT
DTSTART;TZID=America/Los_Angeles:20251120T180000
DTEND;TZID=America/Los_Angeles:20251120T200000
DTSTAMP:20260424T203715
CREATED:20251109T192912Z
LAST-MODIFIED:20251109T194208Z
UID:10000247-1763661600-1763668800@district5030.org
SUMMARY:Hunger Strike Trivia Contest - Fundraiser to Fight Hunger
DESCRIPTION:Hunger Strike Trivia Challenge is a fun\, interactive fundraising competition that brings Rotary clubs and communities together to fight hunger. Participants form teams\, raise money through donations and pledges\, and then compete in a live\, online trivia game streamed on YouTube. Players answer questions from their phones while seeing real-time results on screen. Every point earned helps raise funds for hunger-relief programs across Washington and beyond—making it a powerful way to do good\, have fun\, and show community spirit. \n\n\nGrand Prize Drawings\n\n\n\n\n\n\n\n\n\n\n\n🏝️ 7 Nights in Hawaii\nExperience the beauty of the islands with a week-long stay in Hawaii. Enjoy sun\, sand\, and aloha in one of the world’s most breathtaking destinations. \n\n\n\n\n\n\n\n\n\n\n\n🎰 4 Nights in a Presidential Suite in Las Vegas\nWelcome the New Year in unforgettable style with a 4-night stay in a presidential suite at a luxury Las Vegas hotel. Celebrate amid the excitement and sparkle of the Strip’s biggest weekend of the year. \n\n\n\n\n\n\nHow It Works\n\nNote: Anyone can join in the fundraising competition!\nClick below to visit the District 5030 Hunger Strike hub\, find your club\, and form or join a fundraising team. \nEvery fundraiser receives their own personal fundraising page to invite friends and family to contribute. Supporters can make a direct donation or\, if you’d like\, they can pledge a dollar amount for every point you earn during the optional LIVE Trivia Game. \nIf you choose to play in the Trivia Game\, you’ll play right from your phone or computer while watching the live Quiz Show at participating businesses across District 5030 or online from home. \nClick Here To Find Your Club & Join a Team \n\n\n🖥️ Log In to Access Your Page\nTo view or edit your personal fundraising page\, please log in to your free Our Mayberry account. First\, navigate to your personal page by going to your team page and clicking on “View Member” under your name. \nOn desktop: Click the “Login” button at the top-right of the page. \nOn mobile: Tap the three horizontal lines (“☰”) in the top-left or top-right to open the menu\, then select “Login.” \n \n\n\n\n\n\n1️⃣ Enable Pledges on Your Page (If Playing the Trivia Game)\nIf you plan to participate in the Trivia Game\, go to your personal fundraising page and log in. Click “Allow Pledges.” This lets your supporters donate directly or pledge a dollar amount for every point you earn during the live Hunger Strike Trivia Game on November 20. \nUse your email address to log in. If you forgot your password or it’s your first time\, click “Forgot Password” to reset. (Max 120 points possible in the Trivia Game.) \n\n\n2️⃣ Join the Live Trivia Game — Nov 20\, 6:00–8:00 PM\nTune in to the Hunger Strike Trivia Game Show streaming live on YouTube! Host a watch party at home\, partner with local businesses and sports bars across District 5030 that can stream YouTube\, or catch the live podcast at participating venues. \n📺YouTube.com/@HungerStrikePodcast \n\n\n3️⃣ Play and Earn Points (and Donations!)\nWhen the show begins\, a QR code appears on screen. Scan it with your phone’s camera to join instantly and connect to your team. Questions appear on your phone in real time\, and results show live on the broadcast. \nIt’s simple and engaging — and every point you earn helps raise money to fight hunger!\n\n\n\n🔥 To All Fundraisers\nRight now\, over 44 million Americans — including 13 million children — are struggling with food insecurity. With federal nutrition programs underfunded and local food banks needing our help\, every dollar you raise helps keep families\, seniors\, and children from going hungry. \n\n\nQuestions or need help? team@hungerstrike.events \n\nHunger Strike · 306 112th Ave NE · Bellevue\, WA 98004-5813 · USA
URL:https://district5030.org/event/hunger-strike-trivia-contest-fundraiser-to-fight-hunger/
LOCATION:https://www.youtube.com/@hungerstrikepodcast
ATTACH;FMTTYPE=image/jpeg:https://district5030.org/wp-content/uploads/2025/11/5030banner2.jpg
END:VEVENT
BEGIN:VEVENT
DTSTART;VALUE=DATE:20260220
DTEND;VALUE=DATE:20260224
DTSTAMP:20260424T203715
CREATED:20260206T031951Z
LAST-MODIFIED:20260206T031951Z
UID:10000251-1771545600-1771891199@district5030.org
SUMMARY:PELS - Pacific Northwest President Elect Learning Seminar (Formally PETS)
DESCRIPTION:Enjoy engaging learning sessions\, inspiring keynote addresses\, and meaningful discussions with renowned leaders—alongside fellow Rotarians. Wishing you all the very best as Club President! \nPlease note: Event schedules and session details may change as we finalize the program.
URL:https://district5030.org/event/pels-pacific-northwest-president-elect-learning-seminar-formally-pets/
LOCATION:DoubleTree by Hilton Hotel Seattle Airport\, 18740 International Blvd\, SeaTac\, WA\, 98188
ATTACH;FMTTYPE=image/webp:https://district5030.org/wp-content/uploads/2026/02/IMG_5093-scaled.webp
END:VEVENT
BEGIN:VEVENT
DTSTART;TZID=America/Los_Angeles:20260228T140000
DTEND;TZID=America/Los_Angeles:20260228T180000
DTSTAMP:20260424T203715
CREATED:20260227T183707Z
LAST-MODIFIED:20260227T183707Z
UID:10000256-1772287200-1772301600@district5030.org
SUMMARY:Rotary Club of Enumclaw Father Daughter Dance
DESCRIPTION:Rotary Club of Enumclaw is excited to present the 33rd annual Father Daughter Dance on February 28\, 2026! A Royal Tea Party featuring sweet treats\, cocoa and coffee at a new location. Professional photos offered in our custom themed backdrops\, selfie station for dads and daughters to capture a moment\, craft experience to do together and more fun surprises.
URL:https://district5030.org/event/rotary-club-of-enumclaw-father-daughter-dance/
LOCATION:expo center field house\, Enumclaw\, WA
ATTACH;FMTTYPE=image/webp:https://district5030.org/wp-content/uploads/2026/02/FDD-2026-657e78293e8288326506bc3a48d230b9.webp
END:VEVENT
BEGIN:VEVENT
DTSTART;TZID=America/Los_Angeles:20260305T180000
DTEND;TZID=America/Los_Angeles:20260305T200000
DTSTAMP:20260424T203715
CREATED:20260303T200038Z
LAST-MODIFIED:20260303T200038Z
UID:10000258-1772733600-1772740800@district5030.org
SUMMARY:Club Fair Seattle Chamber Of Connection
DESCRIPTION:Join the National Nordic Museum and the Seattle Chamber of Connection for our first ever Seattle Club Fair! \nThis event will feature over 30 Seattle clubs\, businesses\, and communities looking for new members. \nUniversity Sunrise Rotary Club will be there!
URL:https://district5030.org/event/club-fair-seattle-chamber-of-connection/
ATTACH;FMTTYPE=image/webp:https://district5030.org/wp-content/uploads/2026/02/club-fair-seattle-chamber-connection-9aceb3663f93a5cc0a90622e3f605e21.webp
END:VEVENT
BEGIN:VEVENT
DTSTART;TZID=America/Los_Angeles:20260313T180000
DTEND;TZID=America/Los_Angeles:20260313T180000
DTSTAMP:20260424T203715
CREATED:20260205T224502Z
LAST-MODIFIED:20260206T023736Z
UID:10000249-1773424800-1773424800@district5030.org
SUMMARY:Drag Queen Bingo
DESCRIPTION:Join us for a fabulous night of Drag Bingo hosted by the Rotary Club of Des Moines & Normandy Park! Proceeds support Highline Schools Foundation and Waterland Pride. Get ready for a fun-filled evening of laughter\, prizes\, and entertainment. \nFriday\, Mar. 13\, 6 p.m. at Normandy Park Cove \nPurchase Tickets here. \nCostumes recommended but not required. Drinks and light refreshments available for purchase. Silent auction during the event.
URL:https://district5030.org/event/drag-queen-bingo/
LOCATION:Normandy Park Cove
ATTACH;FMTTYPE=image/webp:https://district5030.org/wp-content/uploads/2026/02/Drag-Bingo-poster-2fbab1b9460f7affc6277876f87c60f9.webp
END:VEVENT
BEGIN:VEVENT
DTSTART;TZID=America/Los_Angeles:20260320T173000
DTEND;TZID=America/Los_Angeles:20260320T210000
DTSTAMP:20260424T203715
CREATED:20260115T200735Z
LAST-MODIFIED:20260206T025837Z
UID:10000250-1774027800-1774040400@district5030.org
SUMMARY:Hearts & Wine
DESCRIPTION:Enjoy an evening where generosity\, community\, and impact come together featuring: \n• A wine tasting reception (beer\, spirits\, and non-alcoholic beverages\, too)\n• Entertainment\n• A delicious dinner\n• An inspiring program and live auction \nPurchase your tickets today at https://www.harvestagainsthunger.org/hearts-wine-2026
URL:https://district5030.org/event/hearts-wine-2/
LOCATION:Victory Hall at the Boxyard\, 1201 1st Ave S\, Seattle
CATEGORIES:Club
ATTACH;FMTTYPE=image/png:https://district5030.org/wp-content/uploads/2026/01/Hearts-Wine-Invitation-2026-64c504f52932defddaccc46c8dae9c58.png
END:VEVENT
BEGIN:VEVENT
DTSTART;TZID=America/Los_Angeles:20260321T170000
DTEND;TZID=America/Los_Angeles:20260321T210000
DTSTAMP:20260424T203715
CREATED:20260227T184605Z
LAST-MODIFIED:20260227T184605Z
UID:10000257-1774112400-1774126800@district5030.org
SUMMARY:Spring Spritz Garden Gala
DESCRIPTION:Join us for the **Rotary Club of Kent Escapades Dinner Auction**\n📅 **Saturday\, March 21\, 2026**\n🕔 **5:00 PM** \nThis is more than a fun night out — it’s a night where we raise real dollars for real impact in our community. \nHere’s what’s in store:\n🍽️ **Plated dinner**\n🛍️ **Two silent auctions**\n🎤 **One live auction**\n🎟️ **Raffles**\n🍰 **Dessert Dash**\n…and more surprises throughout the night! \n**Why Rotary matters**\nRotary is where service turns into action. It’s neighbors helping neighbors — supporting kids\, families\, and local programs that make Kent stronger. I’m proud to be part of a group that shows up consistently and gets things done.\nIf you’ve been curious about Rotary\, this is the perfect event to experience it — bring a friend\, come have a great time\, and be part of something bigger than all of us. \n🎟️ **Get tickets here:** https://kentrotary.ejoinme.org/…/1560319/Default.aspx\nSee you March 21st! 💙💛
URL:https://district5030.org/event/spring-spritz-garden-gala/
LOCATION:Green River College
ATTACH;FMTTYPE=image/webp:https://district5030.org/wp-content/uploads/2026/02/5-Days-Left-9e155ec8e20f23efd09a30ea998cd314.webp
END:VEVENT
BEGIN:VEVENT
DTSTART;TZID=America/Los_Angeles:20260412T100000
DTEND;TZID=America/Los_Angeles:20260412T140000
DTSTAMP:20260424T203715
CREATED:20260403T171806Z
LAST-MODIFIED:20260403T171806Z
UID:10000264-1775988000-1776002400@district5030.org
SUMMARY:Elk Run Farm Work Party
DESCRIPTION:This is a great opportunity to experience Harvest Against Hunger’s mission in action and to invite family\, friends\, and coworkers to make an impact together. \nElk Run Farm exists solely to provide fresh produce to hunger relief organizations in South King County. It thrives because of volunteers and will need our help with activities such as raking\, hoeing\, planting\, weeding\, hauling materials\, mulching\, turning compost and harvest produce. \nTo register for the work party\, go to https://elkrunfarm.wordpress.com and sign up for April 12. Questions\, contact Colleen Turner at colleen@harvestagainsthunger.org.
URL:https://district5030.org/event/elk-run-farm-work-party/
LOCATION:See description
ATTACH;FMTTYPE=image/webp:https://district5030.org/wp-content/uploads/2026/04/Group-Photo-ca6a422074f2699a258e1e69eb4326f7.webp
END:VEVENT
BEGIN:VEVENT
DTSTART;TZID=America/Los_Angeles:20260412T160000
DTEND;TZID=America/Los_Angeles:20260412T193000
DTSTAMP:20260424T203715
CREATED:20260307T043442Z
LAST-MODIFIED:20260307T043442Z
UID:10000259-1776009600-1776022200@district5030.org
SUMMARY:The Big Taste
DESCRIPTION:The Big Taste is back for another incredible year and we’re popping bottles in a brand-new location! Join us Sunday\, April 12 from 4:00–7:30pm at Block 41\, a trendy\, spacious venue in the heart of downtown Seattle’s Belltown\, for an evening made for mingling\, sipping\, and discovering new favorites. Enjoy an incredible lineup of beer\, wine\, cider\, spirits\, and plenty of N/A options\, all under one roof and all for a great cause. \nFor $55\, your ticket includes 12 tasting tickets\, a custom event glass\, live music\, great company\, and the chance to support three amazing organizations: University Sunrise Rotary\, Outdoors for All\, and We Heart Seattle!\n\nGather your friends\, mark your calendar\, and get ready for another great year together!\nGet your tickets today: https://www.tickettomato.com/event/9773/the-big-taste
URL:https://district5030.org/event/the-big-taste-3/
LOCATION:Block 41
ATTACH;FMTTYPE=image/webp:https://district5030.org/wp-content/uploads/2026/02/big-taste-2025-facebook-a79ab407448f85973ffe61ce5ba3a602.webp
END:VEVENT
BEGIN:VEVENT
DTSTART;TZID=America/Los_Angeles:20260418T100000
DTEND;TZID=America/Los_Angeles:20260418T140000
DTSTAMP:20260424T203715
CREATED:20260216T210309Z
LAST-MODIFIED:20260227T184714Z
UID:10000255-1776506400-1776520800@district5030.org
SUMMARY:Day Out for Autism
DESCRIPTION:Join the Washington Autism Alliance (WAA) for our “Day Out for Autism” event\, a family-friendly celebration with fun activities for all ages! The event promotes acceptance and inclusion while raising funds to support improved access to care and effective services for individuals with autism and other developmental disabilities across Washington State. \nEvent Highlights\n• Sensory – Sensitive Fun Fair for children\, adolescents\, and adults\n• Autism Resource Fair\n• Optional 3K Walk/Stroll Your Way\n• Live Entertainment \nVolunteer signup link:\nhttps://www.signupgenius.com/go/30E044CABA92BA2FC1-54820431-dayout#/
URL:https://district5030.org/event/day-out-for-autism/
LOCATION:Marina Park\, 25 Lakeshore Plaza\, Kirkland\, WA\, 98033\, United States
ATTACH;FMTTYPE=image/webp:https://district5030.org/wp-content/uploads/2026/02/WAA-4b9507c1af29d3260370bc98113d33dc.webp
END:VEVENT
BEGIN:VEVENT
DTSTART;TZID=America/Los_Angeles:20260425T090000
DTEND;TZID=America/Los_Angeles:20260425T120000
DTSTAMP:20260424T203715
CREATED:20260403T171554Z
LAST-MODIFIED:20260403T171554Z
UID:10000263-1777107600-1777118400@district5030.org
SUMMARY:Rotary Boys and Girls Club Annual Clean Up Day
DESCRIPTION:Join us from 9 AM – 12 PM for a day in service to the Rotary Boys and Girls Club-the club District 5030’s Rotary Club of Seattle helped establish! If wanting to attend as a volunteer\, please RSVP at jared.grose@industriousoffice.com.
URL:https://district5030.org/event/rotary-boys-and-girls-club-annual-clean-up-day/
LOCATION:See description
ATTACH;FMTTYPE=image/webp:https://district5030.org/wp-content/uploads/2026/03/RBGC-maintenance-day-2018-small-00f8032356f1d081009637deff7f5cbd.webp
END:VEVENT
BEGIN:VEVENT
DTSTART;TZID=America/Los_Angeles:20260425T100000
DTEND;TZID=America/Los_Angeles:20260425T130000
DTSTAMP:20260424T203715
CREATED:20260403T171502Z
LAST-MODIFIED:20260403T171502Z
UID:10000262-1777111200-1777122000@district5030.org
SUMMARY:Rotary Club of Magnolia's "Just Shred It!" Paper Shredding Event
DESCRIPTION:This is Rotary Club of Magnolia’s “Just Shred It!” event where individuals and businesses can have bring documents to be shredded for free. You may donate to Rotary Club of Magnolia at the event\, if you wish.
URL:https://district5030.org/event/rotary-club-of-magnolias-just-shred-it-paper-shredding-event/
LOCATION:See description
ATTACH;FMTTYPE=image/webp:https://district5030.org/wp-content/uploads/2026/04/RCM-JUST-SHRED-IT-Poster-April-2026-Editable-pic-d15c8d0fe13be779d772162deec16971.webp
END:VEVENT
BEGIN:VEVENT
DTSTART;TZID=America/Los_Angeles:20260506T173000
DTEND;TZID=America/Los_Angeles:20260506T203000
DTSTAMP:20260424T203715
CREATED:20260204T041314Z
LAST-MODIFIED:20260204T041414Z
UID:10000248-1778088600-1778099400@district5030.org
SUMMARY:18th Annual Grape Escape at Pickering Barn
DESCRIPTION:Pour back into Issaquah with the perfect night out – one that gives right back to our beautiful community. \n🎟️ GrapeEscape.EventBrite.com \nHosted by the Rotary Club of Issaquah\, the 18th annual Grape Escape is a food & wine event like no other\, featuring unlimited pours from Washington vintners & distillers and delicious bites from local restaurants all evening. \nWhether you’re looking for date night idea with big heart or are planning the perfect night out on the town with friends\, Grape Escape is not to be missed! \nBecause of the community’s generosity and involvement in our club’s events\, the Rotary Club of Issaquah has been able to… \n– provide ongoing support to the Issaquah Food Bank\,\n– award scholarships to local college-bound teens\, and\n– annually distribute $30\,000 in community grants to other non-profits and organizations in our community \nOur fundraising efforts are primarily in service of organizations and projects that benefit our neighbors right here in Issaquah. \nAnd there’s no shortage of good work we can do in 2026. Together. \nJoin us at Pickering Barn on Wednesday\, May 6th for an event that celebrates our Issaquah community while supporting it! \nGet your tickets at GrapeEscape.EventBrite.com. \nWe look forward to welcoming you and toasting your support.
URL:https://district5030.org/event/18th-annual-grape-escape-at-pickering-barn/
LOCATION:Pickering Barn
ATTACH;FMTTYPE=image/webp:https://district5030.org/wp-content/uploads/2026/02/Grape-Escape-Fundraiser-in-Issaquah-WA-5687536ead7d6756946ec3b437777d7b.webp
END:VEVENT
BEGIN:VEVENT
DTSTART;TZID=America/Los_Angeles:20260513T170000
DTEND;TZID=America/Los_Angeles:20260513T190000
DTSTAMP:20260424T203715
CREATED:20260403T171358Z
LAST-MODIFIED:20260403T171358Z
UID:10000261-1778691600-1778698800@district5030.org
SUMMARY:Evening Event at Cascade PBS with the Rotary Club of Seattle
DESCRIPTION:Join members of the Rotary Club of Seattle for an indoor/outdoor evening of socializing and learning about Cascade PBS! Food and drink will be provided. This is a ticketed event; please make sure to pre-register and pay to attend: https://seattlerotary.org/events/may-13-evening-event-at-cascade-pbs/
URL:https://district5030.org/event/evening-event-at-cascade-pbs-with-the-rotary-club-of-seattle/
LOCATION:See description
ATTACH;FMTTYPE=image/webp:https://district5030.org/wp-content/uploads/2026/03/cascade-017faaba12c48785a35c2929375c8744.webp
END:VEVENT
BEGIN:VEVENT
DTSTART;TZID=America/Los_Angeles:20260516T180000
DTEND;TZID=America/Los_Angeles:20260516T210000
DTSTAMP:20260424T203715
CREATED:20260403T171148Z
LAST-MODIFIED:20260410T183521Z
UID:10000260-1778954400-1778965200@district5030.org
SUMMARY:Flower Power - Peace\, Love & Bingo!
DESCRIPTION:Join West Seattle Rotary and Ms. Sylvia O’Stayformore for Flower Power\, a rousing evening of rainbow bingo\, with hors d’oeuvres\, a cash bar\, and a 50/50 raffle\, on Saturday\, May 16 at the West Seattle Golf Club. Proceeds benefit the West Seattle Rotary Service Foundation. Get your groove on–bell bottoms\, peace signs\, daisies in your hair–or come as you are! Doors open at 5:30 p.m. \nIndividuals $50 | Table of 8 $350 | Table of 10 $425. \nFor questions please e-mail ws_rotary@yahoo.com
URL:https://district5030.org/event/flower-power-peace-love-bingo/
LOCATION:See description
ATTACH;FMTTYPE=image/webp:https://district5030.org/wp-content/uploads/2026/03/2026_Flower-Power_Peace-Love-and-Bingo_web-3e3f4c0d4f0538634bf7103d38699b87-scaled.webp
END:VEVENT
BEGIN:VEVENT
DTSTART;VALUE=DATE:20260530
DTEND;VALUE=DATE:20260531
DTSTAMP:20260424T203715
CREATED:20260206T033111Z
LAST-MODIFIED:20260206T033111Z
UID:10000252-1780099200-1780185599@district5030.org
SUMMARY:2026 District Learning Symposium
DESCRIPTION:Save the Date!  Details Forthcoming.
URL:https://district5030.org/event/2026-district-learning-symposium/
LOCATION:Mercer Island Community & Event Center
ATTACH;FMTTYPE=image/webp:https://district5030.org/wp-content/uploads/2026/02/c5aa0481-6383-401b-a5dc-a05960641155.webp
END:VEVENT
BEGIN:VEVENT
DTSTART;VALUE=DATE:20260903
DTEND;VALUE=DATE:20260907
DTSTAMP:20260424T203715
CREATED:20260206T035325Z
LAST-MODIFIED:20260206T035325Z
UID:10000254-1788393600-1788739199@district5030.org
SUMMARY:Camp Big West
DESCRIPTION:Register today!  A unique zone experience that is filled with education\, networking and fun!  To learn more\, visit\, https://www.zoneinstitute.org/
URL:https://district5030.org/event/camp-big-west/
LOCATION:The Wigwam Resort\, 300 E Wigwam Blvd\, Litchfield Park\, AZ\, 85340
END:VEVENT
BEGIN:VEVENT
DTSTART;TZID=America/Los_Angeles:20260910T180000
DTEND;TZID=America/Los_Angeles:20260910T200000
DTSTAMP:20260424T203715
CREATED:20260206T034216Z
LAST-MODIFIED:20260206T174447Z
UID:10000253-1789063200-1789070400@district5030.org
SUMMARY:RISE - Cohort 6
DESCRIPTION:2026 Registration opens May 1  and ends August 21.  This 11-week virtual and in-person professional series integrates cutting edge leadership best practices with Rotary principles. \nKickoff:  Sept 10 at 6pm in Seattle \nVirtual Sessions:  Sept 24\, Oct 8 and 22\, Nov 5 and 19 at 5pm \nSpeed Networking Event:  Oct 14 from 5pm to 7pm \nGraduation:  Dec 3 at 6pm.
URL:https://district5030.org/event/rise-cohort-6/
ATTACH;FMTTYPE=image/webp:https://district5030.org/wp-content/uploads/2026/02/RISE-2026-LIVE-FINAL.webp
END:VEVENT
END:VCALENDAR