BEGIN:VCALENDAR
VERSION:2.0
PRODID:-//Rotary District 5030 - ECPv6.15.20//NONSGML v1.0//EN
CALSCALE:GREGORIAN
METHOD:PUBLISH
X-ORIGINAL-URL:https://district5030.org
X-WR-CALDESC:Events for Rotary District 5030
REFRESH-INTERVAL;VALUE=DURATION:PT1H
X-Robots-Tag:noindex
X-PUBLISHED-TTL:PT1H
BEGIN:VTIMEZONE
TZID:America/Los_Angeles
BEGIN:DAYLIGHT
TZOFFSETFROM:-0800
TZOFFSETTO:-0700
TZNAME:PDT
DTSTART:20230312T100000
END:DAYLIGHT
BEGIN:STANDARD
TZOFFSETFROM:-0700
TZOFFSETTO:-0800
TZNAME:PST
DTSTART:20231105T090000
END:STANDARD
BEGIN:DAYLIGHT
TZOFFSETFROM:-0800
TZOFFSETTO:-0700
TZNAME:PDT
DTSTART:20240310T100000
END:DAYLIGHT
BEGIN:STANDARD
TZOFFSETFROM:-0700
TZOFFSETTO:-0800
TZNAME:PST
DTSTART:20241103T090000
END:STANDARD
BEGIN:DAYLIGHT
TZOFFSETFROM:-0800
TZOFFSETTO:-0700
TZNAME:PDT
DTSTART:20250309T100000
END:DAYLIGHT
BEGIN:STANDARD
TZOFFSETFROM:-0700
TZOFFSETTO:-0800
TZNAME:PST
DTSTART:20251102T090000
END:STANDARD
END:VTIMEZONE
BEGIN:VEVENT
DTSTART;TZID=America/Los_Angeles:20240422T093000
DTEND;TZID=America/Los_Angeles:20240422T190000
DTSTAMP:20260425T133935
CREATED:20240227T182514Z
LAST-MODIFIED:20240228T014852Z
UID:10000095-1713778200-1713812400@district5030.org
SUMMARY:Renton Rotary - Tee Up for Community - Charity Golf Scramble
DESCRIPTION:Join us for a day of great golfing on the exclusive Fairwood Golf Course! You will enjoy a Golf Scramble benefiting Renton Rotary community service projects\, networking\, games\, and a dinner at the Fairwood Country Club immediately following the tournament. \nWhen: Monday\, April 22\, 2024\nWhere: Fairwood Golf and Country Club\nCheck In Time: 9:30am – 10:30am\nShotgun Start at Tee: 11:00am \nREGISTER YOUR TEAM AT Golf Tournament website\n*Early registration ends after April 1\, 2024. After April 1st\, $900 per foursome / $250 per individual. \nCOST:  Foursome: $800.00 | Individual Golfer: $200.00 – Included for each player: Entry fee and greens fees for Private Fairwood Golf and Country Club\, Golf Cart (2 per cart)\, 1 drink ticket\, 1 dinner after golf\, 1 raffle ticket\, chances to win exciting prizes! \nSPONSORSHIP OPPORTUNITIES\n$4\,000.00 – Ace Sponsor\n• Top billing\, entry for 4 golfers (4 drink\, dinner\, raffle tickets)\, 4 additional raffle tickets\, 4 $50 Gift Cards to\nthe Fairwood Pro Shop\, logo recognition on all digital and promotional materials and event signage\,\n“Hole Sponsorship” of the 10th Hole. \n$2\,000.00 – Eagle Sponsor\n• Entry for 4 golfers (4 drink\, dinner\, raffle tickets)\, 4 additional raffle tickets\, logo recognition on all digital\npromotional materials and event signage. \n$1\,000.00 – Birdie Sponsor\n• Entry for 2 golfers (2 drink\, dinner\, raffle tickets)\, 2 additional raffle tickets\, logo recognition on all\ndigital promotional materials and event signage. \n$1\,000.00 – Cart Sponsor\n• Rotary provided signage on all player carts. Logo recognition on every cart at the scramble and on all digital\npromotional materials. \n$400.00 – Hole Sponsor\n• Interact with all golfers at the tee box! Logo recognition on all digital promotional materials. \n$400.00 – Beverage Cart Sponsor\n• Logo recognition on the beverage cart at the scramble and on all digital promotional materials. \n$400.00 – Driving Range Sponsor\n• Logo recognition at the driving range and on all digital promotional materials. \n$200.00 – Morning Coffee Sponsor\n• Logo recognition at check in and on all digital promotional materials. \nCustom Sponsorships Available\n• Please call Aaron Easter at 425-227-3294 or email aaron.easter@edwardjones.com or speak with your local Rotarian.
URL:https://district5030.org/event/renton-rotary-tee-up-for-community-charity-golf-scramble/
LOCATION:Fairwood Golf and Country Club\, 17070 140th Ave SE\, Renton\, WA\, 98058\, United States
CATEGORIES:Club
ATTACH;FMTTYPE=image/png:https://district5030.org/wp-content/uploads/2024/02/capture-593ed342c495042cea499b2eadbc6e68.png
END:VEVENT
BEGIN:VEVENT
DTSTART;TZID=America/Los_Angeles:20240426T170000
DTEND;TZID=America/Los_Angeles:20240427T130000
DTSTAMP:20260425T133935
CREATED:20240414T003108Z
LAST-MODIFIED:20240414T003108Z
UID:10000116-1714150800-1714222800@district5030.org
SUMMARY:Maple Valley Rotary - Fishing Derby/Breakfast
DESCRIPTION:Opening Day Trout Derby on Lake Wilderness & Fireman’s Breakfast April 26 – 27\, 2024.
URL:https://district5030.org/event/maple-valley-rotary-fishing-derby-breakfast/
LOCATION:Lake Wilderness Park\, 22500 SE 248th Street\, Maple Valley\, WA\, 98038\, United States
CATEGORIES:Club
ATTACH;FMTTYPE=image/jpeg:https://district5030.org/wp-content/uploads/2024/04/389307_352036871512473_1412144025_n-e2d61000e8dc058c22d8f150d90c1ae4.jpg
END:VEVENT
BEGIN:VEVENT
DTSTART;TZID=America/Los_Angeles:20240428T070000
DTEND;TZID=America/Los_Angeles:20240428T110000
DTSTAMP:20260425T133935
CREATED:20240225T212137Z
LAST-MODIFIED:20240226T013042Z
UID:10000093-1714287600-1714302000@district5030.org
SUMMARY:All in for Autism 5k Run Walk 2024
DESCRIPTION:All in for Autism is the annual premier charity 5K run/walk sponsored by Bellevue Breakfast Rotary Club. This event raises awareness and funds to support children with Autism Spectrum Disorder (ASD). The event is held annually on the last Sunday of April in Downtown Bellevue\, WA. Learn more about this event by visiting the All in for Autism website!
URL:https://district5030.org/event/all-in-for-autism-5k-run-walk-2024/
LOCATION:Bellevue Downtown Park\, 10201 NE 4th St\, Bellevue\, WA\, 98004\, United States
CATEGORIES:Club
ATTACH;FMTTYPE=image/jpeg:https://district5030.org/wp-content/uploads/2024/02/Ai4A1-1-e1708910452101.jpg
END:VEVENT
END:VCALENDAR