BEGIN:VCALENDAR
VERSION:2.0
PRODID:-//Rotary District 5030 - ECPv6.15.20//NONSGML v1.0//EN
CALSCALE:GREGORIAN
METHOD:PUBLISH
X-ORIGINAL-URL:https://district5030.org
X-WR-CALDESC:Events for Rotary District 5030
REFRESH-INTERVAL;VALUE=DURATION:PT1H
X-Robots-Tag:noindex
X-PUBLISHED-TTL:PT1H
BEGIN:VTIMEZONE
TZID:America/Los_Angeles
BEGIN:DAYLIGHT
TZOFFSETFROM:-0800
TZOFFSETTO:-0700
TZNAME:PDT
DTSTART:20230312T100000
END:DAYLIGHT
BEGIN:STANDARD
TZOFFSETFROM:-0700
TZOFFSETTO:-0800
TZNAME:PST
DTSTART:20231105T090000
END:STANDARD
BEGIN:DAYLIGHT
TZOFFSETFROM:-0800
TZOFFSETTO:-0700
TZNAME:PDT
DTSTART:20240310T100000
END:DAYLIGHT
BEGIN:STANDARD
TZOFFSETFROM:-0700
TZOFFSETTO:-0800
TZNAME:PST
DTSTART:20241103T090000
END:STANDARD
BEGIN:DAYLIGHT
TZOFFSETFROM:-0800
TZOFFSETTO:-0700
TZNAME:PDT
DTSTART:20250309T100000
END:DAYLIGHT
BEGIN:STANDARD
TZOFFSETFROM:-0700
TZOFFSETTO:-0800
TZNAME:PST
DTSTART:20251102T090000
END:STANDARD
END:VTIMEZONE
BEGIN:VEVENT
DTSTART;TZID=America/Los_Angeles:20240420T100000
DTEND;TZID=America/Los_Angeles:20240420T150000
DTSTAMP:20260425T042635
CREATED:20240204T182837Z
LAST-MODIFIED:20240408T162632Z
UID:10000089-1713607200-1713625200@district5030.org
SUMMARY:District 5030 - Lithium-Ion Recycling across Greater Seattle - April 20th\, 2024
DESCRIPTION:Take Charge!  Recycle Lithium-Ion batteries responsibly. \nDistrict 5030 Environmental & Sustainability team will be leading this effort\, with support from our clubs and partners\, by having collection sites available across the Greater Seattle area.  Please unite and inspire your friends\, neighbors\, and others to recycle their popular rechargeable items (cell phones\, laptops\, tablets\, electric toothbrushes\, wireless headphones\, and power tool batteries) to our partner sites where these items will be recycled safely and cleanly for the environment. \nMore details can be found at Lithium-Ion Recycle website \n\n 
URL:https://district5030.org/event/district-5030-lithium-ion-recycling-across-greater-seattle-april-20th-2024/
CATEGORIES:District
ATTACH;FMTTYPE=image/png:https://district5030.org/wp-content/uploads/2024/02/Battery-Recycling-Goodwill.png
END:VEVENT
END:VCALENDAR