BEGIN:VCALENDAR
VERSION:2.0
PRODID:-//Rotary District 5030 - ECPv6.15.20//NONSGML v1.0//EN
CALSCALE:GREGORIAN
METHOD:PUBLISH
X-WR-CALNAME:Rotary District 5030
X-ORIGINAL-URL:https://district5030.org
X-WR-CALDESC:Events for Rotary District 5030
REFRESH-INTERVAL;VALUE=DURATION:PT1H
X-Robots-Tag:noindex
X-PUBLISHED-TTL:PT1H
BEGIN:VTIMEZONE
TZID:America/Los_Angeles
BEGIN:DAYLIGHT
TZOFFSETFROM:-0800
TZOFFSETTO:-0700
TZNAME:PDT
DTSTART:20230312T100000
END:DAYLIGHT
BEGIN:STANDARD
TZOFFSETFROM:-0700
TZOFFSETTO:-0800
TZNAME:PST
DTSTART:20231105T090000
END:STANDARD
BEGIN:DAYLIGHT
TZOFFSETFROM:-0800
TZOFFSETTO:-0700
TZNAME:PDT
DTSTART:20240310T100000
END:DAYLIGHT
BEGIN:STANDARD
TZOFFSETFROM:-0700
TZOFFSETTO:-0800
TZNAME:PST
DTSTART:20241103T090000
END:STANDARD
BEGIN:DAYLIGHT
TZOFFSETFROM:-0800
TZOFFSETTO:-0700
TZNAME:PDT
DTSTART:20250309T100000
END:DAYLIGHT
BEGIN:STANDARD
TZOFFSETFROM:-0700
TZOFFSETTO:-0800
TZNAME:PST
DTSTART:20251102T090000
END:STANDARD
END:VTIMEZONE
BEGIN:VEVENT
DTSTART;TZID=America/Los_Angeles:20240118T170000
DTEND;TZID=America/Los_Angeles:20240121T120000
DTSTAMP:20260425T115550
CREATED:20231129T045534Z
LAST-MODIFIED:20231129T050010Z
UID:10000057-1705597200-1705838400@district5030.org
SUMMARY:Blue Denim
DESCRIPTION:One of the special training events that the Governor team participates in each year is called Blue Denim – it is a casual weekend of learning put on by the Governors of the nine Districts from Pacific Northwest PETS where we share experiences throughout the Governor journey with each other and help prepare the coming Governors for what’s ahead.
URL:https://district5030.org/event/blue-denim/
LOCATION:WA
CATEGORIES:District
ATTACH;FMTTYPE=image/jpeg:https://district5030.org/wp-content/uploads/2023/11/IMG_1825-c3579cb9ae5f0950481b8f33e6a8a77b.jpg
END:VEVENT
END:VCALENDAR