BEGIN:VCALENDAR
VERSION:2.0
PRODID:-//Rotary District 5030 - ECPv6.15.20//NONSGML v1.0//EN
CALSCALE:GREGORIAN
METHOD:PUBLISH
X-ORIGINAL-URL:https://district5030.org
X-WR-CALDESC:Events for Rotary District 5030
REFRESH-INTERVAL;VALUE=DURATION:PT1H
X-Robots-Tag:noindex
X-PUBLISHED-TTL:PT1H
BEGIN:VTIMEZONE
TZID:America/Los_Angeles
BEGIN:DAYLIGHT
TZOFFSETFROM:-0800
TZOFFSETTO:-0700
TZNAME:PDT
DTSTART:20230312T100000
END:DAYLIGHT
BEGIN:STANDARD
TZOFFSETFROM:-0700
TZOFFSETTO:-0800
TZNAME:PST
DTSTART:20231105T090000
END:STANDARD
BEGIN:DAYLIGHT
TZOFFSETFROM:-0800
TZOFFSETTO:-0700
TZNAME:PDT
DTSTART:20240310T100000
END:DAYLIGHT
BEGIN:STANDARD
TZOFFSETFROM:-0700
TZOFFSETTO:-0800
TZNAME:PST
DTSTART:20241103T090000
END:STANDARD
BEGIN:DAYLIGHT
TZOFFSETFROM:-0800
TZOFFSETTO:-0700
TZNAME:PDT
DTSTART:20250309T100000
END:DAYLIGHT
BEGIN:STANDARD
TZOFFSETFROM:-0700
TZOFFSETTO:-0800
TZNAME:PST
DTSTART:20251102T090000
END:STANDARD
END:VTIMEZONE
BEGIN:VEVENT
DTSTART;TZID=America/Los_Angeles:20240216T100000
DTEND;TZID=America/Los_Angeles:20240218T170000
DTSTAMP:20260425T094701
CREATED:20231129T042955Z
LAST-MODIFIED:20231129T042955Z
UID:10000056-1708077600-1708275600@district5030.org
SUMMARY:Pacific Northwest PETS (President-Elect Training Seminar) Northwest
DESCRIPTION:Pacific Northwest Presidents-Elect Training (PNW-PETs) \nRegistration opens: November 29\, 2023 – for the best choices of sessions\, register quickly! \n2024 PNW-PETS: February 16-18th\, 2024\, Doubletree Hotel and Conference Center – at SeaTac\, Seattle\, Washington \nWelcome to those who will be serving in leadership roles in your clubs and districts for the 2024-25 year. The charge of Pacific Northwest PETs is to help prepare the Presidents-Elect as well as other leaders during our February 16-18th\, 2024 leadership sessions. Both the District Governors Elect and the Operations Committee strive to make your experience one that you will always remember.
URL:https://district5030.org/event/pacific-northwest-pets-president-elect-training-seminar-northwest/
LOCATION:WA
CATEGORIES:District
ATTACH;FMTTYPE=image/png:https://district5030.org/wp-content/uploads/2023/11/Capture-e5140e3c8da8dfcc7e241870f6063915.jpg
END:VEVENT
END:VCALENDAR