BEGIN:VCALENDAR
VERSION:2.0
PRODID:-//Rotary District 5030 - ECPv6.15.20//NONSGML v1.0//EN
CALSCALE:GREGORIAN
METHOD:PUBLISH
X-ORIGINAL-URL:https://district5030.org
X-WR-CALDESC:Events for Rotary District 5030
REFRESH-INTERVAL;VALUE=DURATION:PT1H
X-Robots-Tag:noindex
X-PUBLISHED-TTL:PT1H
BEGIN:VTIMEZONE
TZID:America/Los_Angeles
BEGIN:DAYLIGHT
TZOFFSETFROM:-0800
TZOFFSETTO:-0700
TZNAME:PDT
DTSTART:20230312T100000
END:DAYLIGHT
BEGIN:STANDARD
TZOFFSETFROM:-0700
TZOFFSETTO:-0800
TZNAME:PST
DTSTART:20231105T090000
END:STANDARD
BEGIN:DAYLIGHT
TZOFFSETFROM:-0800
TZOFFSETTO:-0700
TZNAME:PDT
DTSTART:20240310T100000
END:DAYLIGHT
BEGIN:STANDARD
TZOFFSETFROM:-0700
TZOFFSETTO:-0800
TZNAME:PST
DTSTART:20241103T090000
END:STANDARD
BEGIN:DAYLIGHT
TZOFFSETFROM:-0800
TZOFFSETTO:-0700
TZNAME:PDT
DTSTART:20250309T100000
END:DAYLIGHT
BEGIN:STANDARD
TZOFFSETFROM:-0700
TZOFFSETTO:-0800
TZNAME:PST
DTSTART:20251102T090000
END:STANDARD
END:VTIMEZONE
BEGIN:VEVENT
DTSTART;TZID=America/Los_Angeles:20240911T080000
DTEND;TZID=America/Los_Angeles:20240914T170000
DTSTAMP:20260425T042957
CREATED:20240123T232453Z
LAST-MODIFIED:20240123T232453Z
UID:10000081-1726041600-1726333200@district5030.org
SUMMARY:Join Us in the Heart of the Big West - Davenport Grand\, Spokane\, Washington
DESCRIPTION:Big West | Big Ideas promises the fusion of groundbreaking ideas with energetic networking in the timeless spirit of the West. \nDive deep into the meticulously crafted sessions and hands-on workshops that challenge the state quo\, inspire innovative thinking\, and transform perspectives\, all while being set against the breathtaking\, scenic backdrop of Spokane’s unparalleled natural beauty. \nRegistration coming Spring 2024 – Learn more at www.ZoneInstitute.org.
URL:https://district5030.org/event/join-us-in-the-heart-of-the-big-west-davenport-grand-spokane-washington/
CATEGORIES:District,Rotary International
ATTACH;FMTTYPE=image/png:https://district5030.org/wp-content/uploads/2024/01/5-x-7-FRONT-06de533eb0dc0010915886c5cb403399.png
END:VEVENT
END:VCALENDAR