BEGIN:VCALENDAR
VERSION:2.0
PRODID:-//Rotary District 5030 - ECPv6.15.20//NONSGML v1.0//EN
CALSCALE:GREGORIAN
METHOD:PUBLISH
X-ORIGINAL-URL:https://district5030.org
X-WR-CALDESC:Events for Rotary District 5030
REFRESH-INTERVAL;VALUE=DURATION:PT1H
X-Robots-Tag:noindex
X-PUBLISHED-TTL:PT1H
BEGIN:VTIMEZONE
TZID:America/Los_Angeles
BEGIN:DAYLIGHT
TZOFFSETFROM:-0800
TZOFFSETTO:-0700
TZNAME:PDT
DTSTART:20220313T100000
END:DAYLIGHT
BEGIN:STANDARD
TZOFFSETFROM:-0700
TZOFFSETTO:-0800
TZNAME:PST
DTSTART:20221106T090000
END:STANDARD
BEGIN:DAYLIGHT
TZOFFSETFROM:-0800
TZOFFSETTO:-0700
TZNAME:PDT
DTSTART:20230312T100000
END:DAYLIGHT
BEGIN:STANDARD
TZOFFSETFROM:-0700
TZOFFSETTO:-0800
TZNAME:PST
DTSTART:20231105T090000
END:STANDARD
BEGIN:DAYLIGHT
TZOFFSETFROM:-0800
TZOFFSETTO:-0700
TZNAME:PDT
DTSTART:20240310T100000
END:DAYLIGHT
BEGIN:STANDARD
TZOFFSETFROM:-0700
TZOFFSETTO:-0800
TZNAME:PST
DTSTART:20241103T090000
END:STANDARD
END:VTIMEZONE
BEGIN:VEVENT
DTSTART;TZID=America/Los_Angeles:20231020T193000
DTEND;TZID=America/Los_Angeles:20231020T230000
DTSTAMP:20260425T121917
CREATED:20230930T233600Z
LAST-MODIFIED:20230930T233942Z
UID:10000046-1697830200-1697842800@district5030.org
SUMMARY:37th Annual Auburn Rotary Scholarship Show
DESCRIPTION:For the past thirty-seven years the Auburn Rotary Club has held the Auburn Rotary Scholarship Show to support Auburn students in pursuing their academic goals. This annual concert has featured some of the finest country music talent in America. Former artists have included some of the top names in Country Music: Blake Shelton\, Keith Urban\, Darius Rucker\, Rodney Atkins\, Sara Evans\, Thompson Square\, Diamond Rio\, Patty Loveless\, Joe Diffie\, Carolyn Dawn Johnson\, Keith Anderson\, Phil Vassar\, Kathy Mattea\, Bucky Covington\, Chris Cagle\, Neal McCoy\, Craig Campbell\, Maddie and Tae and Danielle Bradbery\, just to name a few. This event attracts patrons from the entire Pacific Northwest Region as well as nationally. \nThis year\, we are holding our event on October 20\, 2023\, at the Auburn Performing Arts Center. This beautiful facility holds close to 1\,000 people and is an acoustical masterpiece\, providing a quality experience for the audience.
URL:https://district5030.org/event/37th-annual-auburn-rotary-scholarship-show/
LOCATION:Auburn Performing Arts Center\, 702 4th Street NE\, Auburn\, WA\, United States
CATEGORIES:Club
ATTACH;FMTTYPE=image/jpeg:https://district5030.org/wp-content/uploads/2023/09/Auburn-Scholarship-Show.jpg
END:VEVENT
END:VCALENDAR