BEGIN:VCALENDAR
VERSION:2.0
PRODID:-//Rotary District 5030 - ECPv6.15.20//NONSGML v1.0//EN
CALSCALE:GREGORIAN
METHOD:PUBLISH
X-ORIGINAL-URL:https://district5030.org
X-WR-CALDESC:Events for Rotary District 5030
REFRESH-INTERVAL;VALUE=DURATION:PT1H
X-Robots-Tag:noindex
X-PUBLISHED-TTL:PT1H
BEGIN:VTIMEZONE
TZID:America/Los_Angeles
BEGIN:DAYLIGHT
TZOFFSETFROM:-0800
TZOFFSETTO:-0700
TZNAME:PDT
DTSTART:20230312T100000
END:DAYLIGHT
BEGIN:STANDARD
TZOFFSETFROM:-0700
TZOFFSETTO:-0800
TZNAME:PST
DTSTART:20231105T090000
END:STANDARD
BEGIN:DAYLIGHT
TZOFFSETFROM:-0800
TZOFFSETTO:-0700
TZNAME:PDT
DTSTART:20240310T100000
END:DAYLIGHT
BEGIN:STANDARD
TZOFFSETFROM:-0700
TZOFFSETTO:-0800
TZNAME:PST
DTSTART:20241103T090000
END:STANDARD
BEGIN:DAYLIGHT
TZOFFSETFROM:-0800
TZOFFSETTO:-0700
TZNAME:PDT
DTSTART:20250309T100000
END:DAYLIGHT
BEGIN:STANDARD
TZOFFSETFROM:-0700
TZOFFSETTO:-0800
TZNAME:PST
DTSTART:20251102T090000
END:STANDARD
END:VTIMEZONE
BEGIN:VEVENT
DTSTART;TZID=America/Los_Angeles:20240720T130000
DTEND;TZID=America/Los_Angeles:20240720T170000
DTSTAMP:20260423T200510
CREATED:20240501T164003Z
LAST-MODIFIED:20240501T164207Z
UID:10000118-1721480400-1721494800@district5030.org
SUMMARY:Speed Croquet 2024
DESCRIPTION:This ain’t your Grandma’s croquet! This croquet match is full of trash talking\, ribbing\, and fierce competition for a stunningly majestic trophy! The stakes are low but the laughs are abundant! Can you guide your team through all the wickets and back in under 10 minutes? \nJoin us for a FUN afternoon of family-friendly competition. It’s okay if you don’t remember how to play croquet\, this is a new twist on an old favorite where your team will compete against other teams to see who can get their entire team through all the wickets the fastest! FASTEST team wins a much coveted trophy and bragging rights! \nSo gather your team of 6\, or sign up individually and we will assemble a team when you arrive. You can even just come to eat and watch the frenzy! Additional side games will be in play while you wait your turn\, and we will also have a small silent and live auction if croquet is just too exciting for you. \nSponsorships are available\, and donations are welcome. \nProceeds benefit the Federal Way Rotary Club community programs with an emphasis on youth related projects. \nThe Federal Way Rotary Club is an organization for business and community leaders who want to have a positive impact on the world at large. We invite you to join us! Check out our website for more information www.federalwayrotary.com.
URL:https://district5030.org/event/speed-croquet-2024/
CATEGORIES:Club
ATTACH;FMTTYPE=image/jpeg:https://district5030.org/wp-content/uploads/2024/04/IMG_7786-45aa9e3a48d7616817085d1b5cb0a0ea.jpeg
END:VEVENT
END:VCALENDAR