BEGIN:VCALENDAR
VERSION:2.0
PRODID:-//Rotary District 5030 - ECPv6.15.20//NONSGML v1.0//EN
CALSCALE:GREGORIAN
METHOD:PUBLISH
X-ORIGINAL-URL:https://district5030.org
X-WR-CALDESC:Events for Rotary District 5030
REFRESH-INTERVAL;VALUE=DURATION:PT1H
X-Robots-Tag:noindex
X-PUBLISHED-TTL:PT1H
BEGIN:VTIMEZONE
TZID:America/Los_Angeles
BEGIN:DAYLIGHT
TZOFFSETFROM:-0800
TZOFFSETTO:-0700
TZNAME:PDT
DTSTART:20220313T100000
END:DAYLIGHT
BEGIN:STANDARD
TZOFFSETFROM:-0700
TZOFFSETTO:-0800
TZNAME:PST
DTSTART:20221106T090000
END:STANDARD
BEGIN:DAYLIGHT
TZOFFSETFROM:-0800
TZOFFSETTO:-0700
TZNAME:PDT
DTSTART:20230312T100000
END:DAYLIGHT
BEGIN:STANDARD
TZOFFSETFROM:-0700
TZOFFSETTO:-0800
TZNAME:PST
DTSTART:20231105T090000
END:STANDARD
BEGIN:DAYLIGHT
TZOFFSETFROM:-0800
TZOFFSETTO:-0700
TZNAME:PDT
DTSTART:20240310T100000
END:DAYLIGHT
BEGIN:STANDARD
TZOFFSETFROM:-0700
TZOFFSETTO:-0800
TZNAME:PST
DTSTART:20241103T090000
END:STANDARD
BEGIN:DAYLIGHT
TZOFFSETFROM:-0800
TZOFFSETTO:-0700
TZNAME:PDT
DTSTART:20250309T100000
END:DAYLIGHT
BEGIN:STANDARD
TZOFFSETFROM:-0700
TZOFFSETTO:-0800
TZNAME:PST
DTSTART:20251102T090000
END:STANDARD
END:VTIMEZONE
BEGIN:VEVENT
DTSTART;TZID=America/Los_Angeles:20240504T090000
DTEND;TZID=America/Los_Angeles:20240504T150000
DTSTAMP:20260423T200528
CREATED:20240227T180303Z
LAST-MODIFIED:20240227T180303Z
UID:10000094-1714813200-1714834800@district5030.org
SUMMARY:Elwha Exploration Day with NatureBridge
DESCRIPTION:Come see and learn about the changes to the Elwha River ecosystem brought about by dam removal\, one the world’s biggest ecosystem restoration projects right in our backyard! Tours will be led by educators from NatureBridge’s Olympic National Park campus. NatureBridge is the nation’s leading organization for science-based education in our nation’s national parks. \nPre-registration is required and a $10 fee covers lunch and pay for educators. See NorthBridge website for more details.
URL:https://district5030.org/event/elwha-exploration-day-with-naturebridge/
ATTACH;FMTTYPE=image/jpeg:https://district5030.org/wp-content/uploads/2024/02/Elwha-Exploration-Day-11-6-22-no.-2-b526f45bce6f6604980ad8ddea740631.jpg
END:VEVENT
BEGIN:VEVENT
DTSTART;TZID=America/Los_Angeles:20231213T180000
DTEND;TZID=America/Los_Angeles:20231213T213000
DTSTAMP:20260423T200528
CREATED:20231208T183929Z
LAST-MODIFIED:20231209T184232Z
UID:10000061-1702490400-1702503000@district5030.org
SUMMARY:Boys in the boat Private Screening with District 5030
DESCRIPTION:Seattle Rotary Mariners Group invites you to attend the movie premier of “Boys in the Boat” at the AMC Pacific Place Theatre. \nTickets are $30 + tax \nRSVP by scanning the QR Code in image or via the link: https://www.eventbrite.com/e/771881908567?aff=oddtdtcreator
URL:https://district5030.org/event/boys-in-the-boat-private-screening-with-district-5030/
LOCATION:AMC Pacific Place 11\, 600 Pine Street\, #400\, Seattle\, WA\, 98101\, United States
CATEGORIES:Club
ATTACH;FMTTYPE=image/png:https://district5030.org/wp-content/uploads/2023/12/Capture-5378d23afa2ec0e3599964d166197e4b.jpg
END:VEVENT
END:VCALENDAR