BEGIN:VCALENDAR
VERSION:2.0
PRODID:-//Rotary District 5030 - ECPv6.15.20//NONSGML v1.0//EN
CALSCALE:GREGORIAN
METHOD:PUBLISH
X-WR-CALNAME:Rotary District 5030
X-ORIGINAL-URL:https://district5030.org
X-WR-CALDESC:Events for Rotary District 5030
REFRESH-INTERVAL;VALUE=DURATION:PT1H
X-Robots-Tag:noindex
X-PUBLISHED-TTL:PT1H
BEGIN:VTIMEZONE
TZID:America/Los_Angeles
BEGIN:DAYLIGHT
TZOFFSETFROM:-0800
TZOFFSETTO:-0700
TZNAME:PDT
DTSTART:20230312T100000
END:DAYLIGHT
BEGIN:STANDARD
TZOFFSETFROM:-0700
TZOFFSETTO:-0800
TZNAME:PST
DTSTART:20231105T090000
END:STANDARD
BEGIN:DAYLIGHT
TZOFFSETFROM:-0800
TZOFFSETTO:-0700
TZNAME:PDT
DTSTART:20240310T100000
END:DAYLIGHT
BEGIN:STANDARD
TZOFFSETFROM:-0700
TZOFFSETTO:-0800
TZNAME:PST
DTSTART:20241103T090000
END:STANDARD
BEGIN:DAYLIGHT
TZOFFSETFROM:-0800
TZOFFSETTO:-0700
TZNAME:PDT
DTSTART:20250309T100000
END:DAYLIGHT
BEGIN:STANDARD
TZOFFSETFROM:-0700
TZOFFSETTO:-0800
TZNAME:PST
DTSTART:20251102T090000
END:STANDARD
END:VTIMEZONE
BEGIN:VEVENT
DTSTART;TZID=America/Los_Angeles:20240221T180000
DTEND;TZID=America/Los_Angeles:20240221T190000
DTSTAMP:20260423T214612
CREATED:20240128T203302Z
LAST-MODIFIED:20240128T203302Z
UID:10000084-1708538400-1708542000@district5030.org
SUMMARY:Human Trafficking Prevention in the Pacific North West
DESCRIPTION:The event titled “Human Trafficking Prevention in the Pacific North West” is an insightful online session scheduled for February 21\, 2024. Organized by the Rotary Club of the Pacific Northwest and 3Strands Global Foundation\, it aims to educate participants about human trafficking. The webinar includes interactive learning and reflection activities\, covering the meaning\, occurrence\, impact\, and prevention strategies of human trafficking. It is designed for a diverse audience\, including caregivers and community leaders\, and offers a Q&A session for an engaging experience. The event is free\, but limited to 100 participants\, making early registration crucial for securing a spot. \nRESERVE A SPOT
URL:https://district5030.org/event/human-trafficking-prevention-in-the-pacific-north-west/
ATTACH;FMTTYPE=image/jpeg:https://district5030.org/wp-content/uploads/2024/01/Screenshot-2024-01-28-at-12.26.10 PM.jpg
END:VEVENT
END:VCALENDAR