BEGIN:VCALENDAR
VERSION:2.0
PRODID:-//Rotary District 5030 - ECPv6.15.20//NONSGML v1.0//EN
CALSCALE:GREGORIAN
METHOD:PUBLISH
X-WR-CALNAME:Rotary District 5030
X-ORIGINAL-URL:https://district5030.org
X-WR-CALDESC:Events for Rotary District 5030
REFRESH-INTERVAL;VALUE=DURATION:PT1H
X-Robots-Tag:noindex
X-PUBLISHED-TTL:PT1H
BEGIN:VTIMEZONE
TZID:America/Los_Angeles
BEGIN:DAYLIGHT
TZOFFSETFROM:-0800
TZOFFSETTO:-0700
TZNAME:PDT
DTSTART:20230312T100000
END:DAYLIGHT
BEGIN:STANDARD
TZOFFSETFROM:-0700
TZOFFSETTO:-0800
TZNAME:PST
DTSTART:20231105T090000
END:STANDARD
BEGIN:DAYLIGHT
TZOFFSETFROM:-0800
TZOFFSETTO:-0700
TZNAME:PDT
DTSTART:20240310T100000
END:DAYLIGHT
BEGIN:STANDARD
TZOFFSETFROM:-0700
TZOFFSETTO:-0800
TZNAME:PST
DTSTART:20241103T090000
END:STANDARD
BEGIN:DAYLIGHT
TZOFFSETFROM:-0800
TZOFFSETTO:-0700
TZNAME:PDT
DTSTART:20250309T100000
END:DAYLIGHT
BEGIN:STANDARD
TZOFFSETFROM:-0700
TZOFFSETTO:-0800
TZNAME:PST
DTSTART:20251102T090000
END:STANDARD
END:VTIMEZONE
BEGIN:VEVENT
DTSTART;TZID=America/Los_Angeles:20240531T190000
DTEND;TZID=America/Los_Angeles:20240609T200000
DTSTAMP:20260423T163437
CREATED:20240601T174352Z
LAST-MODIFIED:20240601T174720Z
UID:10000120-1717182000-1717963200@district5030.org
SUMMARY:Building Communities 2024
DESCRIPTION:Seattle-International District Rotary is having an online auction from May 31 to June 9.  We invite you to take a look at the auction website\, bid often\, and bid high.  All proceeds go to service projects at home and abroad.
URL:https://district5030.org/event/building-communities-2024/
CATEGORIES:Club
ATTACH;FMTTYPE=image/png:https://district5030.org/wp-content/uploads/2024/05/2024-Auction-Invitation-8167c09580f00907aab97b41247c62ab.png
ORGANIZER;CN="Seattle International District Rotary":MAILTO:rotaryofseattleid@gmail.com
END:VEVENT
END:VCALENDAR