BEGIN:VCALENDAR
VERSION:2.0
PRODID:-//Rotary District 5030 - ECPv6.15.20//NONSGML v1.0//EN
CALSCALE:GREGORIAN
METHOD:PUBLISH
X-ORIGINAL-URL:https://district5030.org
X-WR-CALDESC:Events for Rotary District 5030
REFRESH-INTERVAL;VALUE=DURATION:PT1H
X-Robots-Tag:noindex
X-PUBLISHED-TTL:PT1H
BEGIN:VTIMEZONE
TZID:America/Los_Angeles
BEGIN:DAYLIGHT
TZOFFSETFROM:-0800
TZOFFSETTO:-0700
TZNAME:PDT
DTSTART:20230312T100000
END:DAYLIGHT
BEGIN:STANDARD
TZOFFSETFROM:-0700
TZOFFSETTO:-0800
TZNAME:PST
DTSTART:20231105T090000
END:STANDARD
BEGIN:DAYLIGHT
TZOFFSETFROM:-0800
TZOFFSETTO:-0700
TZNAME:PDT
DTSTART:20240310T100000
END:DAYLIGHT
BEGIN:STANDARD
TZOFFSETFROM:-0700
TZOFFSETTO:-0800
TZNAME:PST
DTSTART:20241103T090000
END:STANDARD
BEGIN:DAYLIGHT
TZOFFSETFROM:-0800
TZOFFSETTO:-0700
TZNAME:PDT
DTSTART:20250309T100000
END:DAYLIGHT
BEGIN:STANDARD
TZOFFSETFROM:-0700
TZOFFSETTO:-0800
TZNAME:PST
DTSTART:20251102T090000
END:STANDARD
END:VTIMEZONE
BEGIN:VEVENT
DTSTART;TZID=America/Los_Angeles:20240428T070000
DTEND;TZID=America/Los_Angeles:20240428T110000
DTSTAMP:20260423T200509
CREATED:20240225T212137Z
LAST-MODIFIED:20240226T013042Z
UID:10000093-1714287600-1714302000@district5030.org
SUMMARY:All in for Autism 5k Run Walk 2024
DESCRIPTION:All in for Autism is the annual premier charity 5K run/walk sponsored by Bellevue Breakfast Rotary Club. This event raises awareness and funds to support children with Autism Spectrum Disorder (ASD). The event is held annually on the last Sunday of April in Downtown Bellevue\, WA. Learn more about this event by visiting the All in for Autism website!
URL:https://district5030.org/event/all-in-for-autism-5k-run-walk-2024/
LOCATION:Bellevue Downtown Park\, 10201 NE 4th St\, Bellevue\, WA\, 98004\, United States
CATEGORIES:Club
ATTACH;FMTTYPE=image/jpeg:https://district5030.org/wp-content/uploads/2024/02/Ai4A1-1-e1708910452101.jpg
END:VEVENT
END:VCALENDAR