BEGIN:VCALENDAR
VERSION:2.0
PRODID:-//Rotary District 5030 - ECPv6.15.20//NONSGML v1.0//EN
CALSCALE:GREGORIAN
METHOD:PUBLISH
X-WR-CALNAME:Rotary District 5030
X-ORIGINAL-URL:https://district5030.org
X-WR-CALDESC:Events for Rotary District 5030
REFRESH-INTERVAL;VALUE=DURATION:PT1H
X-Robots-Tag:noindex
X-PUBLISHED-TTL:PT1H
BEGIN:VTIMEZONE
TZID:America/Los_Angeles
BEGIN:DAYLIGHT
TZOFFSETFROM:-0800
TZOFFSETTO:-0700
TZNAME:PDT
DTSTART:20220313T100000
END:DAYLIGHT
BEGIN:STANDARD
TZOFFSETFROM:-0700
TZOFFSETTO:-0800
TZNAME:PST
DTSTART:20221106T090000
END:STANDARD
BEGIN:DAYLIGHT
TZOFFSETFROM:-0800
TZOFFSETTO:-0700
TZNAME:PDT
DTSTART:20230312T100000
END:DAYLIGHT
BEGIN:STANDARD
TZOFFSETFROM:-0700
TZOFFSETTO:-0800
TZNAME:PST
DTSTART:20231105T090000
END:STANDARD
BEGIN:DAYLIGHT
TZOFFSETFROM:-0800
TZOFFSETTO:-0700
TZNAME:PDT
DTSTART:20240310T100000
END:DAYLIGHT
BEGIN:STANDARD
TZOFFSETFROM:-0700
TZOFFSETTO:-0800
TZNAME:PST
DTSTART:20241103T090000
END:STANDARD
END:VTIMEZONE
BEGIN:VEVENT
DTSTART;TZID=America/Los_Angeles:20231024T170000
DTEND;TZID=America/Los_Angeles:20231024T190000
DTSTAMP:20260423T152854
CREATED:20230922T201636Z
LAST-MODIFIED:20230927T001643Z
UID:10000043-1698166800-1698174000@district5030.org
SUMMARY:World Polio Day 2023 – Let’s Make Polio History!
DESCRIPTION:World Polio Day 2023\n \nJoin the Discovery Center and Rotary International for a hybrid event commemorating World Polio Day 2023 “Let’s make polio history” This event will be an opportunity to celebrate progress in the fight against the disease and discuss the obstacles that remain to achieve a polio-free world. \nLearn about what gives us hope in the pathway to eradication\, how polio eradication is supporting women on the frontlines\, and how the program continues to innovate and adapt to changing situations.  \nEngage with Ezra Teshome\, a Rotarian who has been leading vaccination campaigns in Ethiopia for over 20 years\, and Tehniyat Khan from the Gates Foundation’s polio team in Afghanistan. The conversation will be moderated by Penny Legate\, former TV anchor for KIRO TV. \nClick here to RSVP.
URL:https://district5030.org/event/world-polio-day-2023-lets-make-polio-history/
LOCATION:Bill & Malinda Gates Discovery Center\, North\, 440 5th Avenue\, Seattle\, WA\, 98109\, United States
CATEGORIES:District
ATTACH;FMTTYPE=image/jpeg:https://district5030.org/wp-content/uploads/2023/09/maxresdefault.jpg
END:VEVENT
END:VCALENDAR