BEGIN:VCALENDAR
VERSION:2.0
PRODID:-//Rotary District 5030 - ECPv6.15.20//NONSGML v1.0//EN
CALSCALE:GREGORIAN
METHOD:PUBLISH
X-ORIGINAL-URL:https://district5030.org
X-WR-CALDESC:Events for Rotary District 5030
REFRESH-INTERVAL;VALUE=DURATION:PT1H
X-Robots-Tag:noindex
X-PUBLISHED-TTL:PT1H
BEGIN:VTIMEZONE
TZID:America/Los_Angeles
BEGIN:DAYLIGHT
TZOFFSETFROM:-0800
TZOFFSETTO:-0700
TZNAME:PDT
DTSTART:20230312T100000
END:DAYLIGHT
BEGIN:STANDARD
TZOFFSETFROM:-0700
TZOFFSETTO:-0800
TZNAME:PST
DTSTART:20231105T090000
END:STANDARD
BEGIN:DAYLIGHT
TZOFFSETFROM:-0800
TZOFFSETTO:-0700
TZNAME:PDT
DTSTART:20240310T100000
END:DAYLIGHT
BEGIN:STANDARD
TZOFFSETFROM:-0700
TZOFFSETTO:-0800
TZNAME:PST
DTSTART:20241103T090000
END:STANDARD
BEGIN:DAYLIGHT
TZOFFSETFROM:-0800
TZOFFSETTO:-0700
TZNAME:PDT
DTSTART:20250309T100000
END:DAYLIGHT
BEGIN:STANDARD
TZOFFSETFROM:-0700
TZOFFSETTO:-0800
TZNAME:PST
DTSTART:20251102T090000
END:STANDARD
END:VTIMEZONE
BEGIN:VEVENT
DTSTART;TZID=America/Los_Angeles:20240111T100000
DTEND;TZID=America/Los_Angeles:20240111T160000
DTSTAMP:20260423T222742
CREATED:20240107T010524Z
LAST-MODIFIED:20240107T011018Z
UID:10000066-1704967200-1704988800@district5030.org
SUMMARY:Human Trafficking Summit
DESCRIPTION:Rotary Club of Tacoma South and Compassion Washington are hosting a full-day S.A.F.E. or Summit Advancing Freedom from Exploitation on January 11\, 10:00-4:00 p.m. at the Church For All Nations in Tacoma\, Washington. A panel of experts and those with lived experience representing different areas of the community–church\, education\, parents\, law enforcement\, business\, community advocate\, and healthcare–will present their perspectives on how to prevent human exploitation and trafficking. \nClick on this link to register. \n  \n 
URL:https://district5030.org/event/human-trafficking-summit/
LOCATION:Church for All Nations\, 112th Street East\, Tacoma\, WA\, United States
CATEGORIES:Club,other
ATTACH;FMTTYPE=image/jpeg:https://district5030.org/wp-content/uploads/2024/01/Human-Trafficking-Summit-Jan-11-2024-80fa48349fbf52c4c6ea6599876ace62.jpg
END:VEVENT
END:VCALENDAR