BEGIN:VCALENDAR
VERSION:2.0
PRODID:-//Rotary District 5030 - ECPv6.15.20//NONSGML v1.0//EN
CALSCALE:GREGORIAN
METHOD:PUBLISH
X-ORIGINAL-URL:https://district5030.org
X-WR-CALDESC:Events for Rotary District 5030
REFRESH-INTERVAL;VALUE=DURATION:PT1H
X-Robots-Tag:noindex
X-PUBLISHED-TTL:PT1H
BEGIN:VTIMEZONE
TZID:America/Los_Angeles
BEGIN:DAYLIGHT
TZOFFSETFROM:-0800
TZOFFSETTO:-0700
TZNAME:PDT
DTSTART:20220313T100000
END:DAYLIGHT
BEGIN:STANDARD
TZOFFSETFROM:-0700
TZOFFSETTO:-0800
TZNAME:PST
DTSTART:20221106T090000
END:STANDARD
BEGIN:DAYLIGHT
TZOFFSETFROM:-0800
TZOFFSETTO:-0700
TZNAME:PDT
DTSTART:20230312T100000
END:DAYLIGHT
BEGIN:STANDARD
TZOFFSETFROM:-0700
TZOFFSETTO:-0800
TZNAME:PST
DTSTART:20231105T090000
END:STANDARD
BEGIN:DAYLIGHT
TZOFFSETFROM:-0800
TZOFFSETTO:-0700
TZNAME:PDT
DTSTART:20240310T100000
END:DAYLIGHT
BEGIN:STANDARD
TZOFFSETFROM:-0700
TZOFFSETTO:-0800
TZNAME:PST
DTSTART:20241103T090000
END:STANDARD
END:VTIMEZONE
BEGIN:VEVENT
DTSTART;VALUE=DATE:20231012
DTEND;VALUE=DATE:20231016
DTSTAMP:20260425T051210
CREATED:20230701T054858Z
LAST-MODIFIED:20230925T175458Z
UID:10000001-1697130000-1697389199@district5030.org
SUMMARY:Rotary District 5030 Conference 2023
DESCRIPTION:We are excited to offer you the opportunity to join us for a dynamic and engaging event. The current ticket price for attending the conference is $350 per person\, but we have a special offer for Rotaract members. If you are a Rotaract\, you are eligible for a discounted price of $250.
URL:https://district5030.org/event/rotary-district-5030-conference-2023/
LOCATION:Empress Hotel\, 721 Government St\, Victoria\, British Columbia\, V8W 1W5\, Canada
CATEGORIES:District
ATTACH;FMTTYPE=image/jpeg:https://district5030.org/wp-content/uploads/2023/06/new-emp-exterior-inner-harbour-1440x612-1.jpg
END:VEVENT
END:VCALENDAR