BEGIN:VCALENDAR
VERSION:2.0
PRODID:-//Rotary District 5030 - ECPv6.15.20//NONSGML v1.0//EN
CALSCALE:GREGORIAN
METHOD:PUBLISH
X-WR-CALNAME:Rotary District 5030
X-ORIGINAL-URL:https://district5030.org
X-WR-CALDESC:Events for Rotary District 5030
REFRESH-INTERVAL;VALUE=DURATION:PT1H
X-Robots-Tag:noindex
X-PUBLISHED-TTL:PT1H
BEGIN:VTIMEZONE
TZID:America/Los_Angeles
BEGIN:DAYLIGHT
TZOFFSETFROM:-0800
TZOFFSETTO:-0700
TZNAME:PDT
DTSTART:20240310T100000
END:DAYLIGHT
BEGIN:STANDARD
TZOFFSETFROM:-0700
TZOFFSETTO:-0800
TZNAME:PST
DTSTART:20241103T090000
END:STANDARD
BEGIN:DAYLIGHT
TZOFFSETFROM:-0800
TZOFFSETTO:-0700
TZNAME:PDT
DTSTART:20250309T100000
END:DAYLIGHT
BEGIN:STANDARD
TZOFFSETFROM:-0700
TZOFFSETTO:-0800
TZNAME:PST
DTSTART:20251102T090000
END:STANDARD
BEGIN:DAYLIGHT
TZOFFSETFROM:-0800
TZOFFSETTO:-0700
TZNAME:PDT
DTSTART:20260308T100000
END:DAYLIGHT
BEGIN:STANDARD
TZOFFSETFROM:-0700
TZOFFSETTO:-0800
TZNAME:PST
DTSTART:20261101T090000
END:STANDARD
END:VTIMEZONE
BEGIN:VEVENT
DTSTART;TZID=America/Los_Angeles:20250315T140000
DTEND;TZID=America/Los_Angeles:20250315T160000
DTSTAMP:20260423T211747
CREATED:20250303T184611Z
LAST-MODIFIED:20250303T184611Z
UID:10000197-1742047200-1742054400@district5030.org
SUMMARY:Read Seattle Movement Meeting
DESCRIPTION:Make reading a reality for every child in Seattle. \nThe literacy situation in Seattle Public Schools and surrounding areas is discouraging and historically disappointing. The SPS October 2024 Audit report points out the continuing disparities and low proficiency reading levels for BIPOC and particularly Black Male students. The reports state that only 60% of SPS 3rd graders are reading at the proficiency levels for their grade. The proficiency level is 40% for BIPOC and 28% for Black Males.\n72% of Black Males in the 3rd grade aren’t reading at their grade level. \nWhile these results are shocking\, they aren’t new. The reading proficiency levels for BIPOC and Black male students have been low for decades. It’s time to act and reverse the trend. The future of our kids depends on it. Read Seattle is building a community-driven literacy movement by connecting volunteers with local nonprofits\, making a real difference. We are asking for your support in promoting this community-driven initiative. \nOn Saturday\, March 15th\, at 2 PM\, the Read Seattle Community Coalition will host a literacy awareness and recruiting event at Holgate Church of Christ\, 2600 S. Holgate St. Our goal is to get individuals to sign up to become reading tutors. We will invite the Seattle Mayor\, Seattle City Council\, King County Council\, Seattle School Board Members\, and other officials to this vital community event.\nYour support is needed.\nWe would like you to attend our event on March 15th at 2 PM if you can and are willing. Your presence and support will go a long way in bringing attention to this enormous opportunity. Scan the QR code on the attached flyer or go to https://www.readseattle.org/sentencedfilm\nto register for the event. \nIf you have questions\, please call Lori Walker at 206-399-0165 or Joe Hunter Jr. at 504-621-6524
URL:https://district5030.org/event/read-seattle-movement-meeting/
LOCATION:Holgate Church of Christ\, 2600 S. Holgate St.
ATTACH;FMTTYPE=image/jpeg:https://district5030.org/wp-content/uploads/2025/02/Flyer_ReadSeattle_2025-006-0526ff6efdc0193f72b1ae77545ec989.jpg
END:VEVENT
END:VCALENDAR