BEGIN:VCALENDAR
VERSION:2.0
PRODID:-//Rotary District 5030 - ECPv6.15.20//NONSGML v1.0//EN
CALSCALE:GREGORIAN
METHOD:PUBLISH
X-ORIGINAL-URL:https://district5030.org
X-WR-CALDESC:Events for Rotary District 5030
REFRESH-INTERVAL;VALUE=DURATION:PT1H
X-Robots-Tag:noindex
X-PUBLISHED-TTL:PT1H
BEGIN:VTIMEZONE
TZID:America/Los_Angeles
BEGIN:DAYLIGHT
TZOFFSETFROM:-0800
TZOFFSETTO:-0700
TZNAME:PDT
DTSTART:20240310T100000
END:DAYLIGHT
BEGIN:STANDARD
TZOFFSETFROM:-0700
TZOFFSETTO:-0800
TZNAME:PST
DTSTART:20241103T090000
END:STANDARD
BEGIN:DAYLIGHT
TZOFFSETFROM:-0800
TZOFFSETTO:-0700
TZNAME:PDT
DTSTART:20250309T100000
END:DAYLIGHT
BEGIN:STANDARD
TZOFFSETFROM:-0700
TZOFFSETTO:-0800
TZNAME:PST
DTSTART:20251102T090000
END:STANDARD
BEGIN:DAYLIGHT
TZOFFSETFROM:-0800
TZOFFSETTO:-0700
TZNAME:PDT
DTSTART:20260308T100000
END:DAYLIGHT
BEGIN:STANDARD
TZOFFSETFROM:-0700
TZOFFSETTO:-0800
TZNAME:PST
DTSTART:20261101T090000
END:STANDARD
END:VTIMEZONE
BEGIN:VEVENT
DTSTART;TZID=America/Los_Angeles:20250619T170000
DTEND;TZID=America/Los_Angeles:20250619T180000
DTSTAMP:20260424T062820
CREATED:20250613T185050Z
LAST-MODIFIED:20250613T185406Z
UID:10000214-1750352400-1750356000@district5030.org
SUMMARY:Rotary District 5030 LIVE (podcast) from RIC in Calgary
DESCRIPTION:Join us LIVE from the heart of the Rotary International Convention in Calgary! 🎉 Rotary District 5030 is taking you behind the scenes with exclusive conversations featuring our District leadership and inspiring Rotarians from around the globe. Discover the ideas\, energy\, and international impact being shared at this year’s convention — and hear firsthand how Rotary is changing lives through innovation\, service\, and connection. \nWhether you’re in Calgary or tuning in from home\, you won’t want to miss this high-energy hour of insights\, highlights\, and surprises! \n📍 Streaming LIVE on YouTube: https://youtube.com/@RotaryDistrict5030LIVE\n📆 Date: June 19\, 2025\n⏰ Time: 5:00PM – 6:00PM PST
URL:https://district5030.org/event/rotary-district-5030-live-podcast-from-ric-in-calgary/
LOCATION:https://youtube.com/@RotaryDistrict5030LIVE
ATTACH;FMTTYPE=image/jpeg:https://district5030.org/wp-content/uploads/2025/06/LiveFromCalgary.jpg
END:VEVENT
END:VCALENDAR