BEGIN:VCALENDAR
VERSION:2.0
PRODID:-//Rotary District 5030 - ECPv6.15.20//NONSGML v1.0//EN
CALSCALE:GREGORIAN
METHOD:PUBLISH
X-WR-CALNAME:Rotary District 5030
X-ORIGINAL-URL:https://district5030.org
X-WR-CALDESC:Events for Rotary District 5030
REFRESH-INTERVAL;VALUE=DURATION:PT1H
X-Robots-Tag:noindex
X-PUBLISHED-TTL:PT1H
BEGIN:VTIMEZONE
TZID:America/Los_Angeles
BEGIN:DAYLIGHT
TZOFFSETFROM:-0800
TZOFFSETTO:-0700
TZNAME:PDT
DTSTART:20240310T100000
END:DAYLIGHT
BEGIN:STANDARD
TZOFFSETFROM:-0700
TZOFFSETTO:-0800
TZNAME:PST
DTSTART:20241103T090000
END:STANDARD
BEGIN:DAYLIGHT
TZOFFSETFROM:-0800
TZOFFSETTO:-0700
TZNAME:PDT
DTSTART:20250309T100000
END:DAYLIGHT
BEGIN:STANDARD
TZOFFSETFROM:-0700
TZOFFSETTO:-0800
TZNAME:PST
DTSTART:20251102T090000
END:STANDARD
BEGIN:DAYLIGHT
TZOFFSETFROM:-0800
TZOFFSETTO:-0700
TZNAME:PDT
DTSTART:20260308T100000
END:DAYLIGHT
BEGIN:STANDARD
TZOFFSETFROM:-0700
TZOFFSETTO:-0800
TZNAME:PST
DTSTART:20261101T090000
END:STANDARD
END:VTIMEZONE
BEGIN:VEVENT
DTSTART;TZID=America/Los_Angeles:20250131T130000
DTEND;TZID=America/Los_Angeles:20250131T130000
DTSTAMP:20260423T225302
CREATED:20250108T025334Z
LAST-MODIFIED:20250108T025432Z
UID:10000187-1738328400-1738328400@district5030.org
SUMMARY:Son Michael Pham Memorial
DESCRIPTION:Son Michael Pham’s Memorial Mass will be held on January 31\, 2025\, at 1 pm.\nIt will be held at Mary Queen of Peace Catholic Church\, 1121 – 228th Ave SE\,\nSammamish\, Washington\, 98075\nA reception will follow Mass in the Social Hall. \nCharitable donations may be made in memory of Son Michael Pham to \nKids Without Borders \nhttp://www.kidswithnoborders.org/donate0.aspx \nThe Rotary Foundation \nhttps://my.rotary.org/en/donate \nNote:  as part of both online donation processes you will be asked if you want to make the donation in memory of someone.
URL:https://district5030.org/event/son-michael-pham-memorial/
LOCATION:Mary Queen of Peace Catholic Church\, 1121 – 228th Ave SE\, Sammamish\, Washington\, 98075
ATTACH;FMTTYPE=image/webp:https://district5030.org/wp-content/uploads/2025/01/son.webp
END:VEVENT
END:VCALENDAR