BEGIN:VCALENDAR
VERSION:2.0
PRODID:-//Rotary District 5030 - ECPv6.15.20//NONSGML v1.0//EN
CALSCALE:GREGORIAN
METHOD:PUBLISH
X-ORIGINAL-URL:https://district5030.org
X-WR-CALDESC:Events for Rotary District 5030
REFRESH-INTERVAL;VALUE=DURATION:PT1H
X-Robots-Tag:noindex
X-PUBLISHED-TTL:PT1H
BEGIN:VTIMEZONE
TZID:America/Los_Angeles
BEGIN:DAYLIGHT
TZOFFSETFROM:-0800
TZOFFSETTO:-0700
TZNAME:PDT
DTSTART:20230312T100000
END:DAYLIGHT
BEGIN:STANDARD
TZOFFSETFROM:-0700
TZOFFSETTO:-0800
TZNAME:PST
DTSTART:20231105T090000
END:STANDARD
BEGIN:DAYLIGHT
TZOFFSETFROM:-0800
TZOFFSETTO:-0700
TZNAME:PDT
DTSTART:20240310T100000
END:DAYLIGHT
BEGIN:STANDARD
TZOFFSETFROM:-0700
TZOFFSETTO:-0800
TZNAME:PST
DTSTART:20241103T090000
END:STANDARD
BEGIN:DAYLIGHT
TZOFFSETFROM:-0800
TZOFFSETTO:-0700
TZNAME:PDT
DTSTART:20250309T100000
END:DAYLIGHT
BEGIN:STANDARD
TZOFFSETFROM:-0700
TZOFFSETTO:-0800
TZNAME:PST
DTSTART:20251102T090000
END:STANDARD
BEGIN:DAYLIGHT
TZOFFSETFROM:-0800
TZOFFSETTO:-0700
TZNAME:PDT
DTSTART:20260308T100000
END:DAYLIGHT
BEGIN:STANDARD
TZOFFSETFROM:-0700
TZOFFSETTO:-0800
TZNAME:PST
DTSTART:20261101T090000
END:STANDARD
END:VTIMEZONE
BEGIN:VEVENT
DTSTART;TZID=America/Los_Angeles:20250419T073000
DTEND;TZID=America/Los_Angeles:20250419T160000
DTSTAMP:20260423T190604
CREATED:20250304T171236Z
LAST-MODIFIED:20250304T171400Z
UID:10000200-1745047800-1745078400@district5030.org
SUMMARY:2025 District 5030 Learning Symposium
DESCRIPTION:We are still taking registrations for the 2025 District 5030 Learning Symposium being held on Saturday\, April 19\, 2025\, from 7:30 am – 4:00 pm at the Mercer Island Community & Event Center. This year’s theme\, Empowering Leaders to Enrich Communities\, promises to inspire and equip you with the tools and knowledge to elevate yours and your Rotary club’s experience. \nAct now! Registrations quickly filled up during January and this is your second chance to secure your spot. If you haven’t registered yet\, sign up immediately as we expect to reach capacity. \nAt the symposium\, you will have the opportunity to engage with thought leaders\, participate in dynamic breakout sessions\, and connect with like-minded Rotarians who share your passion for service and leadership. \nTo Register click: Register for the 2025 District Learning Symposium \nImportant Registration Notes: \n\nProgram: Attached to this email is an updated copy of the event pre-flight program with sessions listed. Read this first to get an idea of which breakout sessions you may want to attend and to help facilitate your registration. You can change these later\, but this just gives us an idea for room set up.\nRegistration: Individuals must register on their own; your Rotary club will not register for you. There is no registration cost for the Symposium\, and it is free to Rotary members.\nSecure Your Spot: Register early to secure your spot\, as we have a capacity cap due to facility constraints. Our 2024 event filled up quickly.\nRequired Grants Training: Please note that this Symposium will also be where the required annual Global Grants and Districts training will be provided. If your club intends to apply for global or district grants in the Rotary Year 2025-2026\, at least two individuals per club must attend the grants training.\nMeals: A continental breakfast will be provided\, but lunch will be on your own with food trucks available with food for purchase\, or you can opt to bring your own lunch.\nVolunteering: There is a volunteer section on the form\, and we kindly ask for your support to help on the day of the event.\nRegistration Timeline: Registration will close on April 13\, 2025. We must do this to allow sufficient time to prepare name badges and confirm quantities of food and beverages.\n\nWhat To Expect After Registering \n\nConfirmation: Once you register online\, you will be sent confirmation via calendar invite from tom@leonidasconsulting.com.\nFuture Emails: Rotarians in District 5030 will continue to receive emails to register with any updated information. If you have registered\, you can safely ignore the emails\, and you do not need to re-register.\nKnow Before You Go: Approximately three days prior to the event\, you will receive a ‘Know Before You Go’ email as a reminder and with important information.\n\nWe look forward to seeing you at the symposium and working together to strengthen our clubs and the Rotary Foundation. If you have any questions\, please reach out directly to me.
URL:https://district5030.org/event/2025-district-5030-learning-symposium/
LOCATION:Mercer Island Community & Event Center
ATTACH;FMTTYPE=image/jpeg:https://district5030.org/wp-content/uploads/2025/03/symposium.jpg
END:VEVENT
BEGIN:VEVENT
DTSTART;TZID=America/Los_Angeles:20240427T083000
DTEND;TZID=America/Los_Angeles:20240427T130000
DTSTAMP:20260423T190604
CREATED:20240317T194715Z
LAST-MODIFIED:20240317T195210Z
UID:10000100-1714206600-1714222800@district5030.org
SUMMARY:2024 District Learning Assembly - Building Vibrant Clubs!
DESCRIPTION:The District Learning Symposium provides an opportunity for all Rotarians and club leaders to develop leadership skills and refine strategies on building an  impactful and vibrant club in our community. All Rotarians who accept a club leadership position or are actively engaged in club activities are encouraged to\nattend the District Learning Symposium. \nCheck out the program: 2024 District Learning Assembly Schedule
URL:https://district5030.org/event/2024-district-learning-assembly-building-vibrant-clubs/
LOCATION:Mercer Island Community & Event Center
ATTACH;FMTTYPE=image/png:https://district5030.org/wp-content/uploads/2024/03/capture.png
END:VEVENT
END:VCALENDAR