BEGIN:VCALENDAR
VERSION:2.0
PRODID:-//Rotary District 5030 - ECPv6.15.20//NONSGML v1.0//EN
CALSCALE:GREGORIAN
METHOD:PUBLISH
X-WR-CALNAME:Rotary District 5030
X-ORIGINAL-URL:https://district5030.org
X-WR-CALDESC:Events for Rotary District 5030
REFRESH-INTERVAL;VALUE=DURATION:PT1H
X-Robots-Tag:noindex
X-PUBLISHED-TTL:PT1H
BEGIN:VTIMEZONE
TZID:America/Los_Angeles
BEGIN:DAYLIGHT
TZOFFSETFROM:-0800
TZOFFSETTO:-0700
TZNAME:PDT
DTSTART:20220313T100000
END:DAYLIGHT
BEGIN:STANDARD
TZOFFSETFROM:-0700
TZOFFSETTO:-0800
TZNAME:PST
DTSTART:20221106T090000
END:STANDARD
BEGIN:DAYLIGHT
TZOFFSETFROM:-0800
TZOFFSETTO:-0700
TZNAME:PDT
DTSTART:20230312T100000
END:DAYLIGHT
BEGIN:STANDARD
TZOFFSETFROM:-0700
TZOFFSETTO:-0800
TZNAME:PST
DTSTART:20231105T090000
END:STANDARD
BEGIN:DAYLIGHT
TZOFFSETFROM:-0800
TZOFFSETTO:-0700
TZNAME:PDT
DTSTART:20240310T100000
END:DAYLIGHT
BEGIN:STANDARD
TZOFFSETFROM:-0700
TZOFFSETTO:-0800
TZNAME:PST
DTSTART:20241103T090000
END:STANDARD
END:VTIMEZONE
BEGIN:VEVENT
DTSTART;TZID=America/Los_Angeles:20231212T080000
DTEND;TZID=America/Los_Angeles:20231212T090000
DTSTAMP:20260423T180202
CREATED:20231116T014553Z
LAST-MODIFIED:20231116T014553Z
UID:10000055-1702368000-1702371600@district5030.org
SUMMARY:Webinar: Learn how Rotary is scaling your impact
DESCRIPTION:Doing Good in the World: The Rotary Foundation’s Virtual Speaker Series is a webinar series for Rotary’s strongest supporters\, highlighting the difference you make through your generosity. Join Rotary leaders and subject matter experts as they share stories of impact and discuss the Rotary programs and initiatives that interest you most. \n\nPrograms of Scale: United to End Cervical Cancer in Egypt\n12 December 2023 | 10:00 CT\nLive on Zoom \nMore than 30\,000 girls will be vaccinated against human papillomavirus (HPV) and 10\,000 women will be screened for cervical cancer in Cairo\, Egypt\, through Rotary’s third Programs of Scale award recipient\, United to End Cervical Cancer in Egypt. \nIn December\, join key-stakeholders and experts who will discuss the goals and large scale\, sustainable impact of United to End Cervical Cancer in Egypt. Attendees will hear about the strategic impact of Programs of Scale and how their contributions to The Rotary Foundation are affecting positive change in communities around the globe.\nRegister today! Participation in the live session is limited and available to the first 1\,000 registrants.
URL:https://district5030.org/event/webinar-learn-how-rotary-is-scaling-your-impact/
LOCATION:Online
CATEGORIES:Rotary International
ATTACH;FMTTYPE=image/jpeg:https://district5030.org/wp-content/uploads/2023/11/Capture-1.jpg
END:VEVENT
BEGIN:VEVENT
DTSTART;TZID=America/Los_Angeles:20231109T080000
DTEND;TZID=America/Los_Angeles:20231111T220000
DTSTAMP:20260423T180202
CREATED:20231029T190040Z
LAST-MODIFIED:20231029T190040Z
UID:10000051-1699516800-1699740000@district5030.org
SUMMARY:2023 Virtual Zone Institute
DESCRIPTION:We are just a few weeks away from Big West Zone Institute and if you can’t make it in person\, don’t worry. You can still take part by attending virtually! Listen to all the amazing keynote speakers and have opportunities to interact with them in our virtual convention hall\, make new friends through virtual networking opportunities\, and check out the virtual House of Friendship. Registration is just $149 and if you enter promo code 50SAVINGS when you register\, you will receive $50 off. \n\n\n\n\n\n\n\n\n\n\n\n\n\n\n\n\n\n\n\n\n\n\n\n\n\n\n\n\n\n\n\n\n\n\n\n\n\n\n\n\nRegister Now\n\n\n\n\n\n\n\n\n\n\n\n\n\n\n\n\n\n\n\n\n\n\n\n\n\n\n\n\n\n\n\n\n\n\n\n\n\n\n\n\nDon’t miss these incredible keynote speakers: \n\n\n\n\n\n\n\n\n\n\n\n\n\n\n\n\n\n\n\n\n\n\n\n\n\n\n\n\n\n\n\n\n\n\n\n\n\n\n\n\n\n\n\n\n\n\n\n\n\n\n\n\n\n\n\n\n\n\n\n\n\n\n\n\n\n\n\nStephanie Urchick\n\n\n\n\n\n\n\n\n\n\n\n\n\n\nRotary International President Elect. Rotary Club of McMurray\, Pennsylvania\, USA. \n\n\n\n\n\n\n\n\n\n\n\n\n\n\n\n\n\n\n\n\n\n\n\n\n\n\n\n\n\n\n\n\n\n\n\n\n\n\n\n\n\n\n\n\n\n\n\n\n\n\n\n\n\n\n\n\n\n\n\n\n\n\n\n\n\n\n\nDr. Patricia Gorman Barry\n\n\n\n\n\n\n\n\n\n\n\n\n\n\nFounder & Developer\, The BrainWise Program\, a non-profit organization teaching children essential critical thinking skills. \n\n\n\n\n\n\n\n\n\n\n\n\n\n\n\n\n\n\n\n\n\n\n\n\n\n\n\n\n\n\n\n\n\n\n\n\n\n\n\n\n\n\n\n\n\n\n\n\n\n\n\n\n\n\n\n\n\n\n\n\n\n\n\n\n\n\n\nJim Marggraff\n\n\n\n\n\n\n\n\n\n\n\n\n\n\nInventor. Founder of companies including LeapFrog\, Kinoo\, and Eyefluence. \n\n\n\n\n\n\n\n\n\n\n\n\n\n\n\n\n\n\n\n\n\n\n\n\n\n\n\n\n\n\n\n\n\n\n\n\n\n\n\n\n\n\n\n\n\n\n\n\n\n\n\n\n\n\n\n\n\n\n\n\n\n\n\n\n\n\n\nSophie Anderson\n\n\n\n\n\n\n\n\n\n\n\n\n\n\nInteract Representative\, Rotary International Youth Advisory Council \n\n\n\n\n\n\n\n\n\n\n\n\n\n\n\n\n\n\n\n\n\n\n\n\n\n\n\n\n\n\n\n\n\n\n\n\n\n\n\n\n\n\n\n\n\n\n\n\n\n\n\n\n\n\n\n\n\n\n\n\n\n\n\n\n\n\n\nBob Brewer\n\n\n\n\n\n\n\n\n\n\n\n\n\n\nFormer U.S. Attorney for the Southern District of California; Attorney; Veteran\, U.S. Army. \n\n\n\n\n\n\n\n\n\n\n\n\n\n\n\n\n\n\n\n\n\n\n\n\n\n\n\n\n\n\n\n\n\n\n\n\n\n\n\n\n\n\nDon’t wait – Register Now! Of course\, we would love to see you in person and there is still time to join us. All the links and info are on the Zone Institute website at www.zoneinstitute.org
URL:https://district5030.org/event/2023-virtual-zone-institute/
LOCATION:Online
ATTACH;FMTTYPE=image/jpeg:https://district5030.org/wp-content/uploads/2023/10/virtualzoneinstitute.jpg
END:VEVENT
END:VCALENDAR