BEGIN:VCALENDAR
VERSION:2.0
PRODID:-//Rotary District 5030 - ECPv6.15.20//NONSGML v1.0//EN
CALSCALE:GREGORIAN
METHOD:PUBLISH
X-ORIGINAL-URL:https://district5030.org
X-WR-CALDESC:Events for Rotary District 5030
REFRESH-INTERVAL;VALUE=DURATION:PT1H
X-Robots-Tag:noindex
X-PUBLISHED-TTL:PT1H
BEGIN:VTIMEZONE
TZID:America/Los_Angeles
BEGIN:DAYLIGHT
TZOFFSETFROM:-0800
TZOFFSETTO:-0700
TZNAME:PDT
DTSTART:20230312T100000
END:DAYLIGHT
BEGIN:STANDARD
TZOFFSETFROM:-0700
TZOFFSETTO:-0800
TZNAME:PST
DTSTART:20231105T090000
END:STANDARD
BEGIN:DAYLIGHT
TZOFFSETFROM:-0800
TZOFFSETTO:-0700
TZNAME:PDT
DTSTART:20240310T100000
END:DAYLIGHT
BEGIN:STANDARD
TZOFFSETFROM:-0700
TZOFFSETTO:-0800
TZNAME:PST
DTSTART:20241103T090000
END:STANDARD
BEGIN:DAYLIGHT
TZOFFSETFROM:-0800
TZOFFSETTO:-0700
TZNAME:PDT
DTSTART:20250309T100000
END:DAYLIGHT
BEGIN:STANDARD
TZOFFSETFROM:-0700
TZOFFSETTO:-0800
TZNAME:PST
DTSTART:20251102T090000
END:STANDARD
END:VTIMEZONE
BEGIN:VEVENT
DTSTART;TZID=America/Los_Angeles:20240416T120000
DTEND;TZID=America/Los_Angeles:20240416T120000
DTSTAMP:20260423T203004
CREATED:20240403T161607Z
LAST-MODIFIED:20240403T161801Z
UID:10000114-1713268800-1713268800@district5030.org
SUMMARY:District 5030 Peace Committee would like to invite all Rotarians and Guests to Ballard Rotary Club to hear Alana Morris speak on the Ethiopia Peace Project.
DESCRIPTION:Ballard Rotary’s Peacebuilders Committee Chair\, Alana Morris\, will speak about her recent trip to Africa. She traveled to Kenya to see the work being done to eradicate malaria by the Rotarian non-profit Malaria Partners International\, and to Ethiopia to see the work being done for our Peace Project in Ethiopia. Alana also had the opportunity to meet the father of President Obama and go on safari to the Masai Mara in Kenya. She will be showing lots of photos and videos\, too\, so you won’t want to miss this meeting! \nMake it easy and pay for your lunch ahead of time using this online link:\nhttps://swipesimple.com/links/lnk_b87ba1c5
URL:https://district5030.org/event/district-5030-peace-committee-would-like-to-invite-all-rotarians-and-guests-to-ballard-rotary-club-to-hear-alana-morris-speak-on-the-ethiopia-peace-project/
LOCATION:Picolinos Ristorante\, 6415 32nd Ave NW\, Seattle\, WA\, United States
CATEGORIES:Club
ATTACH;FMTTYPE=image/png:https://district5030.org/wp-content/uploads/2024/04/Screenshot-2024-04-03-at-9.13.08 AM.png
END:VEVENT
END:VCALENDAR