BEGIN:VCALENDAR
VERSION:2.0
PRODID:-//Rotary District 5030 - ECPv6.15.20//NONSGML v1.0//EN
CALSCALE:GREGORIAN
METHOD:PUBLISH
X-ORIGINAL-URL:https://district5030.org
X-WR-CALDESC:Events for Rotary District 5030
REFRESH-INTERVAL;VALUE=DURATION:PT1H
X-Robots-Tag:noindex
X-PUBLISHED-TTL:PT1H
BEGIN:VTIMEZONE
TZID:America/Los_Angeles
BEGIN:DAYLIGHT
TZOFFSETFROM:-0800
TZOFFSETTO:-0700
TZNAME:PDT
DTSTART:20230312T100000
END:DAYLIGHT
BEGIN:STANDARD
TZOFFSETFROM:-0700
TZOFFSETTO:-0800
TZNAME:PST
DTSTART:20231105T090000
END:STANDARD
BEGIN:DAYLIGHT
TZOFFSETFROM:-0800
TZOFFSETTO:-0700
TZNAME:PDT
DTSTART:20240310T100000
END:DAYLIGHT
BEGIN:STANDARD
TZOFFSETFROM:-0700
TZOFFSETTO:-0800
TZNAME:PST
DTSTART:20241103T090000
END:STANDARD
BEGIN:DAYLIGHT
TZOFFSETFROM:-0800
TZOFFSETTO:-0700
TZNAME:PDT
DTSTART:20250309T100000
END:DAYLIGHT
BEGIN:STANDARD
TZOFFSETFROM:-0700
TZOFFSETTO:-0800
TZNAME:PST
DTSTART:20251102T090000
END:STANDARD
END:VTIMEZONE
BEGIN:VEVENT
DTSTART;TZID=America/Los_Angeles:20240128T113000
DTEND;TZID=America/Los_Angeles:20240128T133000
DTSTAMP:20260423T190524
CREATED:20231208T183200Z
LAST-MODIFIED:20231208T184205Z
UID:10000060-1706441400-1706448600@district5030.org
SUMMARY:Council of Governor’s Annual Luncheon (Invitation Only)
DESCRIPTION:The Rotary District 5030’s Annual Council of Governors luncheon\, to be held on Sunday\, January 28\, 2024\, at the Renaissance Seattle Hotel at 515 Madison Street\, from 11:30 AM to 1:30 PM. The luncheon will be held in the Madison Ballroom\, Salon A on the second floor\, just up the escalator from the lobby. \nWe are all excited to hear from District Governor-Elect Rachele Bouchand about her experience at the International Assembly and to learn about Rotary International President-Elect Stephanie Urchick’s 2024-2025 Rotary theme.
URL:https://district5030.org/event/council-of-governors-annual-luncheon-invitation-only/
LOCATION:Renaissace Seattle Hotel\, 515 Madison Street\, Seattle\, WA\, United States
CATEGORIES:District
ATTACH;FMTTYPE=image/jpeg:https://district5030.org/wp-content/uploads/2023/12/COG-Lunch-2023-844aade455cb0b6c4f3e3f979fc6c11d.jpg
END:VEVENT
END:VCALENDAR