BEGIN:VCALENDAR
VERSION:2.0
PRODID:-//Rotary District 5030 - ECPv6.15.20//NONSGML v1.0//EN
CALSCALE:GREGORIAN
METHOD:PUBLISH
X-WR-CALNAME:Rotary District 5030
X-ORIGINAL-URL:https://district5030.org
X-WR-CALDESC:Events for Rotary District 5030
REFRESH-INTERVAL;VALUE=DURATION:PT1H
X-Robots-Tag:noindex
X-PUBLISHED-TTL:PT1H
BEGIN:VTIMEZONE
TZID:America/Los_Angeles
BEGIN:DAYLIGHT
TZOFFSETFROM:-0800
TZOFFSETTO:-0700
TZNAME:PDT
DTSTART:20230312T100000
END:DAYLIGHT
BEGIN:STANDARD
TZOFFSETFROM:-0700
TZOFFSETTO:-0800
TZNAME:PST
DTSTART:20231105T090000
END:STANDARD
BEGIN:DAYLIGHT
TZOFFSETFROM:-0800
TZOFFSETTO:-0700
TZNAME:PDT
DTSTART:20240310T100000
END:DAYLIGHT
BEGIN:STANDARD
TZOFFSETFROM:-0700
TZOFFSETTO:-0800
TZNAME:PST
DTSTART:20241103T090000
END:STANDARD
BEGIN:DAYLIGHT
TZOFFSETFROM:-0800
TZOFFSETTO:-0700
TZNAME:PDT
DTSTART:20250309T100000
END:DAYLIGHT
BEGIN:STANDARD
TZOFFSETFROM:-0700
TZOFFSETTO:-0800
TZNAME:PST
DTSTART:20251102T090000
END:STANDARD
END:VTIMEZONE
BEGIN:VEVENT
DTSTART;TZID=America/Los_Angeles:20240123T160000
DTEND;TZID=America/Los_Angeles:20240123T180000
DTSTAMP:20260423T211747
CREATED:20231222T194951Z
LAST-MODIFIED:20231222T194951Z
UID:10000062-1706025600-1706032800@district5030.org
SUMMARY:Illiteracy Shouts Out for Action
DESCRIPTION:Join us for the film screening of “Sentenced\,” followed by a panel and conversation about the local literacy situation. Panelists include: \n\nDr. Kelly Aramaki\, Bellevue Public Schools Superintendent\nDr. Dwane Chappelle\, City of Seattle Director\, Education and Early Learning\nDr. Jessica Conte\, Principal of Dearborn Park International Elementary School\nRoy Chang\, Founder of School Connect\, WA\nDavid Woodward\, David Woodward Associates\, facilitating international K-20 education services.\n\nGET YOUR TICKETS NOW \n(Seating is limited) \nIn 2022\, alarming statistics revealed that 21% of US adults were functionally illiterate\, with 54% having literacy levels below the sixth grade. The financial impact of low literacy rates is staggering\, costing Americans up to $2.2 trillion annually. \nThese numbers are a call to action\, and we believe Rotarians can make a significant impact. \nJoin us for an exclusive screening of “Sentenced\,” a powerful documentary shedding light on the issue. Following the screening\, engage in an insightful panel discussion with local educators and nonprofits on the front lines of this critical challenge.
URL:https://district5030.org/event/illiteracy-shouts-out-for-action/
LOCATION:Seattle Public Library\, Microsoft Auditorium\, 1000 4th Avenue\, Seattle\, WA\, 1000 4th Avenue\, Seattle\, WA\, 98104\, United States
ATTACH;FMTTYPE=image/jpeg:https://district5030.org/wp-content/uploads/2023/12/Blue-White-Minimalist-Flying-Without-Wings-Movie-Flyer-1.jpg
END:VEVENT
END:VCALENDAR