BEGIN:VCALENDAR
VERSION:2.0
PRODID:-//Rotary District 5030 - ECPv6.15.20//NONSGML v1.0//EN
CALSCALE:GREGORIAN
METHOD:PUBLISH
X-ORIGINAL-URL:https://district5030.org
X-WR-CALDESC:Events for Rotary District 5030
REFRESH-INTERVAL;VALUE=DURATION:PT1H
X-Robots-Tag:noindex
X-PUBLISHED-TTL:PT1H
BEGIN:VTIMEZONE
TZID:America/Los_Angeles
BEGIN:DAYLIGHT
TZOFFSETFROM:-0800
TZOFFSETTO:-0700
TZNAME:PDT
DTSTART:20220313T100000
END:DAYLIGHT
BEGIN:STANDARD
TZOFFSETFROM:-0700
TZOFFSETTO:-0800
TZNAME:PST
DTSTART:20221106T090000
END:STANDARD
BEGIN:DAYLIGHT
TZOFFSETFROM:-0800
TZOFFSETTO:-0700
TZNAME:PDT
DTSTART:20230312T100000
END:DAYLIGHT
BEGIN:STANDARD
TZOFFSETFROM:-0700
TZOFFSETTO:-0800
TZNAME:PST
DTSTART:20231105T090000
END:STANDARD
BEGIN:DAYLIGHT
TZOFFSETFROM:-0800
TZOFFSETTO:-0700
TZNAME:PDT
DTSTART:20240310T100000
END:DAYLIGHT
BEGIN:STANDARD
TZOFFSETFROM:-0700
TZOFFSETTO:-0800
TZNAME:PST
DTSTART:20241103T090000
END:STANDARD
END:VTIMEZONE
BEGIN:VEVENT
DTSTART;TZID=America/Los_Angeles:20231217T140000
DTEND;TZID=America/Los_Angeles:20231217T160000
DTSTAMP:20260423T192200
CREATED:20231129T050658Z
LAST-MODIFIED:20231202T020733Z
UID:10000058-1702821600-1702828800@district5030.org
SUMMARY:District Leadership Team Holiday Party
DESCRIPTION:
URL:https://district5030.org/event/district-leadership-team-holiday-party/
LOCATION:The Great Room at Thornton Place\, 337 NE 103rd Street\, Seattle\, WA\, 98125\, United States
CATEGORIES:District
ATTACH;FMTTYPE=image/png:https://district5030.org/wp-content/uploads/2023/11/Capture-23ac68b184fa76697c8fcd82c97cde33.png
END:VEVENT
END:VCALENDAR