BEGIN:VCALENDAR
VERSION:2.0
PRODID:-//Rotary District 5030 - ECPv6.15.20//NONSGML v1.0//EN
CALSCALE:GREGORIAN
METHOD:PUBLISH
X-ORIGINAL-URL:https://district5030.org
X-WR-CALDESC:Events for Rotary District 5030
REFRESH-INTERVAL;VALUE=DURATION:PT1H
X-Robots-Tag:noindex
X-PUBLISHED-TTL:PT1H
BEGIN:VTIMEZONE
TZID:America/Los_Angeles
BEGIN:DAYLIGHT
TZOFFSETFROM:-0800
TZOFFSETTO:-0700
TZNAME:PDT
DTSTART:20240310T100000
END:DAYLIGHT
BEGIN:STANDARD
TZOFFSETFROM:-0700
TZOFFSETTO:-0800
TZNAME:PST
DTSTART:20241103T090000
END:STANDARD
BEGIN:DAYLIGHT
TZOFFSETFROM:-0800
TZOFFSETTO:-0700
TZNAME:PDT
DTSTART:20250309T100000
END:DAYLIGHT
BEGIN:STANDARD
TZOFFSETFROM:-0700
TZOFFSETTO:-0800
TZNAME:PST
DTSTART:20251102T090000
END:STANDARD
BEGIN:DAYLIGHT
TZOFFSETFROM:-0800
TZOFFSETTO:-0700
TZNAME:PDT
DTSTART:20260308T100000
END:DAYLIGHT
BEGIN:STANDARD
TZOFFSETFROM:-0700
TZOFFSETTO:-0800
TZNAME:PST
DTSTART:20261101T090000
END:STANDARD
END:VTIMEZONE
BEGIN:VEVENT
DTSTART;TZID=America/Los_Angeles:20250315T183000
DTEND;TZID=America/Los_Angeles:20250315T183000
DTSTAMP:20260423T222651
CREATED:20250210T181717Z
LAST-MODIFIED:20250210T204146Z
UID:10000190-1742063400-1742063400@district5030.org
SUMMARY:Queens of the Green: An Evening of Irish-themed Rainbow Bingo
DESCRIPTION:May the luck o’ the Irish be with you on Saturday\, March 15\, when we welcome Sylvia O’Stayformore back as Rainbow Bingo emcee at the West Seattle Golf Course. This fundraiser is a major source of funds for Rotary Club of West Seattle’s work providing scholarships for young adults\, new school supplies and clothing for local youth\, clean stoves in Guatemala\, and much more! \nLike last time\, tickets will be $40 each and tables (8 seats) are $300. To register\, visit bit.ly/42uLSps \nThe night includes hosted hors d’oeurves\, a cash bar\, loads of laughs\, and an opportunity to support local and global Rotary projects \nQuestions? Contact Kjersti Stroup at kjersti@strouplegal.com.
URL:https://district5030.org/event/queens-of-the-green-an-evening-of-irish-themed-rainbow-bingo-2/
LOCATION:West Seattle Golf Course
ATTACH;FMTTYPE=image/webp:https://district5030.org/wp-content/uploads/2025/02/20250315-Queens-of-the-Green_social-media-18ae8274c7d47ad9a63df0737ce72002.webp
END:VEVENT
END:VCALENDAR